Workbook

Sheet FINANCE
B1: ='2021 2022 DRAFT BUDGET SUMMARY'!J24 -> -79111.446 | C1: ='2021 2022 DRAFT BUDGET SUMMARY'!J24 -> -79111.446
A2: 2021/2022 DRAFT BUDGET (BUDGET AND TREASURY OFFICE)
A3: ACCOUNT NUMBER | B3: ACCOUNT DESCRIPTION | C3: 2020/2021 Draft Budget | D3: Consultation Changes | E3: 2020/2021 Final Budget | F3: Adjustments | G3: 2020/2021 First Adjusted Budget | H3: Adjustments | I3: 2020/2021 Second Adjusted Budget | J3: 2021/2022 Draft Budget | K3: 2022/2023 Outer Year One | L3: 2023/2024 Outer Year Two
A5: FINANCE
A6: REVENUE
A7: Interest, Dividend and Rent on Land
A8: D0001/IR01061/F2495/X049/R0105/001/FIN | B8: Interest Earned on Short Term Investments | C8: -11000000 | E8: =C8+D8 -> -11000000 | G8: =E8+F8 -> -11000000 | H8: 5000000 | I8: =G8+H8 -> -6000000 | J8: -6500000 | K8: -10000000 | L8: =K8*104.4% -> -10440000
A9: D0001/IR01068/F2494/X049/R0106/001/FIN | B9: Interest on Outstanding Debtors | C9: -800000 | E9: =C9+D9 -> -800000 | G9: =E9+F9 -> -800000 | H9: -70926.24 | I9: =G9+H9 -> -870926.24 | J9: =H9+I9 -> -941852.48 | K9: =J9*104.2% -> -981410.28 | L9: =K9*104.4% -> -1024592.3
A10: Total | C10: =SUM(C8:C9) -> -11800000 | D10: =SUM(D8:D9) -> 0 | E10: =SUM(E8:E9) -> -11800000 | F10: =SUM(F8:F9) -> 0 | G10: =SUM(G8:G9) -> -11800000 | H10: =SUM(H8:H9) -> 4929073.8 | I10: =SUM(I8:I9) -> -6870926.2 | J10: =SUM(J8:J9) -> -7441852.5 | ... L10: =SUM(L8:L9) -> -11464592
A12: Licences or Permits
A13: D0001/IR01410/F0044/X049/R0106/001/FIN | B13: Business Licensing | C13: -1000 | E13: =C13+D13 -> -1000 | G13: =E13+F13 -> -1000 | H13: -500 | I13: =G13+H13 -> -1500 | J13: -1500 | K13: =J13*104.2% -> -1563 | L13: =K13*104.4% -> -1631.772
A14: Total | C14: =SUM(C13) -> -1000 | D14: =SUM(D13) -> 0 | E14: =SUM(E13) -> -1000 | F14: =SUM(F13) -> 0 | G14: =SUM(G13) -> -1000 | H14: =SUM(H13) -> -500 | I14: =SUM(I13) -> -1500 | J14: =SUM(J13) -> -1500 | ... L14: =SUM(L13) -> -1631.772
A16: Operational Revenue | E16: =C16+D16 -> 0
A17: D0001/IR01411/F0045/X049/R0105/001/FIN | B17: Administrative Handling | C17: -300000 | E17: =C17+D17 -> -300000 | G17: =E17+F17 -> -300000 | H17: 100000 | I17: =G17+H17 -> -200000 | J17: -150000 | K17: =J17*104.2% -> -156300 | L17: =K17*104.4% -> -163177.2
A18: D0001/IR01420/F0045/X049/R0105/001/FIN | B18: Insurance Refund | C18: -50000 | E18: =C18+D18 -> -50000 | G18: =E18+F18 -> -50000 | H18: -300000 | I18: =G18+H18 -> -350000 | J18: -100000 | K18: =J18*104.2% -> -104200 | L18: =K18*104.4% -> -108784.8
A19: D0001/IR01424/F0045/X049/R0105/001/FIN | B19: Skills Development Levy Refund | C19: -100000 | E19: =C19+D19 -> -100000 | G19: =E19+F19 -> -100000 | I19: =G19+H19 -> -100000 | J19: -100000 | K19: =J19*104.2% -> -104200 | L19: =K19*104.4% -> -108784.8
A20: Total | C20: =SUM(C17:C19) -> -450000 | D20: =SUM(D17:D19) -> 0 | E20: =SUM(E17:E19) -> -450000 | F20: =SUM(F17:F19) -> 0 | G20: =SUM(G17:G19) -> -450000 | H20: =SUM(H17:H19) -> -200000 | I20: =SUM(I17:I19) -> -650000 | J20: =SUM(J17:J19) -> -350000 | ... L20: =SUM(L17:L19) -> -380746.8
E21: =C21+D21 -> 0
A22: Rental from Fixed Assets | E22: =C22+D22 -> 0
A23: D0001/IR01221/F0045/X049/R0106/001/FIN | B23: HALL HIRE | C23: -5000 | E23: =C23+D23 -> -5000 | G23: =E23+F23 -> -5000 | I23: =G23+H23 -> -5000 | J23: =I23*104% -> -5200 | K23: =J23*104.2% -> -5418.4 | L23: =K23*104.4% -> -5656.8096
A24: D0001/IR01265/F0046/X049/R0105/001/FIN | B24: Rental Income | C24: -600000 | E24: =C24+D24 -> -600000 | G24: =E24+F24 -> -600000 | H24: 92045.48 | I24: =G24+H24 -> -507954.52 | J24: =I24*104% -> -528272.7 | K24: =J24*104.2% -> -550460.15 | L24: =K24*104.4% -> -574680.4
A25: Total | C25: =SUM(C23:C24) -> -605000 | D25: =SUM(D23:D24) -> 0 | E25: =SUM(E23:E24) -> -605000 | F25: =SUM(F23:F24) -> 0 | G25: =SUM(G23:G24) -> -605000 | H25: =SUM(H23:H24) -> 92045.48 | I25: =SUM(I23:I24) -> -512954.52 | J25: =SUM(J23:J24) -> -533472.7 | ... L25: =SUM(L23:L24) -> -580337.21
E26: =C26+D26 -> 0
A27: Sales of Goods and Rendering of Services | E27: =C27+D27 -> 0
A28: D0001/IR01113/F0047/X049/R0106/001/FIN | B28: Sale of Tender Documents | C28: -100000 | E28: =C28+D28 -> -100000 | G28: =E28+F28 -> -100000 | H28: -400000 | I28: =G28+H28 -> -500000 | J28: -200000 | K28: =J28*104.2% -> -208400 | L28: =K28*104.4% -> -217569.6
A29: D0001/IR01429/F0047/X049/R0106/001/FIN | B29: Building Plan Approval | C29: -2000 | E29: =C29+D29 -> -2000 | G29: =E29+F29 -> -2000 | H29: 1000 | I29: =G29+H29 -> -1000 | J29: -1000 | K29: =J29*104.2% -> -1042 | L29: =K29*104.4% -> -1087.848
A30: D0001/IR01435/F0045/X049/R0105/001/FIN | B30: Clearance Certificates | C30: -1000 | E30: =C30+D30 -> -1000 | G30: =E30+F30 -> -1000 | H30: -4000 | I30: =G30+H30 -> -5000 | J30: -2500 | K30: =J30*104.2% -> -2605 | L30: =K30*104.4% -> -2719.62
A31: D0001/IR01451/F0045/X049/R0105/001/FIN | B31: Hiring of plant and Equipment | C31: -5000 | E31: =C31+D31 -> -5000 | G31: =E31+F31 -> -5000 | H31: 3000 | I31: =G31+H31 -> -2000 | J31: -2000 | K31: =J31*104.2% -> -2084 | L31: =K31*104.4% -> -2175.696
A32: D0001/IR05707/F4441/X049/R0106/001/FIN | B32: Grant from Ilembe | C32: 0 | E32: =C32+D32 -> 0 | G32: =E32+F32 -> 0 | I32: =G32+H32 -> 0 | K32: =C32*104.6% -> 0 | L32: =K32*104.6% -> 0
A33: Total | C33: =SUM(C28:C32) -> -108000 | D33: =SUM(D28:D32) -> 0 | E33: =SUM(E28:E32) -> -108000 | F33: =SUM(F28:F32) -> 0 | G33: =SUM(G28:G32) -> -108000 | H33: =SUM(H28:H32) -> -400000 | I33: =SUM(I28:I32) -> -508000 | J33: =SUM(J28:J32) -> -205500 | ... L33: =SUM(L28:L32) -> -223552.76
E34: =C34+D34 -> 0
A35: Property Rates | E35: =C35+D35 -> 0
A36: D0001/IR01038/F2496/X049/R0105/001/FIN | B36: Property Rates:Communal Land:Business and Commercial | C36: -2862112.5 | E36: =C36+D36 -> -2862112.5 | G36: =E36+F36 -> -2862112.5 | I36: =G36+H36 -> -2862112.5 | J36: =I36*104% -> -2976597 | K36: =J36*104.2% -> -3101614.1 | L36: =K36*104.4% -> -3238085.1
A37: D0001/IR01040/F0001/X049/R0105/001/FIN | B37: Property Rates (Communal Land:Other) | C37: 0 | E37: =C37+D37 -> 0 | G37: =E37+F37 -> 0 | I37: =G37+H37 -> 0 | J37: =I37*104% -> 0 | K37: =J37*104.2% -> 0 | L37: =K37*104.4% -> 0
A38: D0001/IR01043/F2496/X049/R0106/001/FIN | B38: Property Rates (Farm Properties:Agricultural Purposes) | C38: -1030727.7 | E38: =C38+D38 -> -1030727.7 | G38: =E38+F38 -> -1030727.7 | I38: =G38+H38 -> -1030727.7 | J38: =I38*104% -> -1071956.8 | K38: =J38*104.2% -> -1116978.9 | L38: =K38*104.4% -> -1166126
A39: D0001/IR01048/F2496/X049/R0106/001/FIN | B39: Property Rates (Farm Properties:Residential Properties) | C39: -274010.16 | E39: =C39+D39 -> -274010.16 | G39: =E39+F39 -> -274010.16 | I39: =G39+H39 -> -274010.16 | J39: =I39*104% -> -284970.57 | K39: =J39*104.2% -> -296939.33 | L39: =K39*104.4% -> -310004.66
A40: D0001/IR01481/F2496/X049/R0105/001/FIN | B40: Property Rates (Agricultural Property) | C40: -613.08 | E40: =C40+D40 -> -613.08 | G40: =E40+F40 -> -613.08 | I40: =G40+H40 -> -613.08 | J40: =I40*104% -> -637.6032 | K40: =J40*104.2% -> -664.38253 | L40: =K40*104.4% -> -693.61537
A41: D0001/IR01484/F2496/X049/R0106/001/FIN | B41: Property Rates (Industrial Properties) | C41: -39140 | E41: =C41+D41 -> -39140 | G41: =E41+F41 -> -39140 | I41: =G41+H41 -> -39140 | J41: =I41*104% -> -40705.6 | K41: =J41*104.2% -> -42415.235 | L41: =K41*104.4% -> -44281.506
A42: D0001/IR007148/F2496/X049/R0105/001/FIN | B42: Property Rates (Municipal Properties) | C42: -26537.02 | E42: =C42+D42 -> -26537.02 | G42: =E42+F42 -> -26537.02 | I42: =G42+H42 -> -26537.02 | J42: =I42*104% -> -27598.501 | K42: =J42*104.2% -> -28757.638 | L42: =K42*104.4% -> -30022.974
A43: D0001/IR007146/F2496/X049/R0106/001/FIN | B43: Property Rates (Special Rating Area) | C43: -7860 | E43: =C43+D43 -> -7860 | G43: =E43+F43 -> -7860 | I43: =G43+H43 -> -7860 | J43: =I43*104% -> -8174.4 | K43: =J43*104.2% -> -8517.7248 | L43: =K43*104.4% -> -8892.5047
...

Sheet MUNICIPAL MANAGER
B1: ='2021 2022 DRAFT BUDGET SUMMARY'!J24 -> -79111.446 | C1: ='2021 2022 DRAFT BUDGET SUMMARY'!J24 -> -79111.446
A2: 2021/2022 DRAFT BUDGET (MUNICIPAL MANAGER)
A3: ACCOUNT NUMBER | B3: ACCOUNT DESCRIPTION | C3: 2020/2021 Draft Budget | D3: Consultation Changes | E3: 2020/2021 Final Budget | F3: Adjustments | G3: 2020/2021 First Adjusted Budget | H3: Adjustments | I3: 2020/2021 Second Adjusted Budget | J3: 2021/2022 Draft Budget | K3: 2021/2022 Outer Year One | L3: 2022/2023 Outer Year Two
A5: IDP AND PMS X096)
A7: REVENUE
A8: Transfers and Subsidies
A9: D0001/IR006972/F13636/X096/R0105/001/MMO | B9: Ward Based Plan Grant | G9: =E9+F9 -> 0 | I9: =G9+H9 -> 0
A10: Total Transfers and Subsidies | C10: =SUM(C9) -> 0 | D10: =SUM(D9) -> 0 | E10: =SUM(E9) -> 0 | F10: =SUM(F9) -> 0 | G10: =SUM(G9) -> 0 | H10: =SUM(H9) -> 0 | I10: =SUM(I9) -> 0 | J10: =SUM(J9) -> 0 | ... L10: =SUM(L9) -> 0
A12: General Expenditure
B13: Budget and IDP Programme/ Mayoral Imbizo
A14: O1236-2/IE00677/F0041/X096/R0106/001/MMO | B14: IDP Programme (Catering) | C14: 765000 | E14: =C14+D14 -> 765000 | G14: =E14+F14 -> 765000 | H14: =-49490-190000-202607 -> -442097 | I14: =G14+H14 -> 322903 | J14: 500000 | K14: =J14*104.2% -> 521000 | L14: =K14*104.4% -> 543924
A15: O1236-2/IE00626/F0041/X096/R0106/001/MMO | B15: IDP Programme (Entertainment) | C15: 80000 | E15: =C15+D15 -> 80000 | G15: =E15+F15 -> 80000 | H15: =33000+120000-120000 -> 33000 | I15: =G15+H15 -> 113000 | J15: 80000 | K15: =J15*104.2% -> 83360 | L15: =K15*104.4% -> 87027.84
A16: O1236-2/IE00628/F0041/X096/R0106/001/MMO | B16: IDP Programme (Sound system) | C16: 340000 | E16: =C16+D16 -> 340000 | G16: =E16+F16 -> 340000 | H16: =152000-100000-122099.2 -> -70099.2 | I16: =G16+H16 -> 269900.8 | J16: 200000 | K16: =J16*104.2% -> 208400 | L16: =K16*104.4% -> 217569.6
A17: O1236-2/IE00571/F0041/X096/R0106/001/MMO | B17: IDP Programme (Tent) | C17: 1300000 | E17: =C17+D17 -> 1300000 | G17: =E17+F17 -> 1300000 | H17: =-275500-100000-400000-200000 -> -975500 | I17: =G17+H17 -> 324500 | J17: 700000 | K17: =J17*104.2% -> 729400 | L17: =K17*104.4% -> 761493.6
A18: O1236-2/IE00703/F0041/X096/R0106/001/MMO | B18: IDP Programme (Transport) | C18: 670000 | E18: =C18+D18 -> 670000 | G18: =E18+F18 -> 670000 | H18: =-250000-150000 -> -400000 | I18: =G18+H18 -> 270000 | J18: 400000 | K18: =J18*104.2% -> 416800 | L18: =K18*104.4% -> 435139.2
G19: =E19+F19 -> 0 | I19: =G19+H19 -> 0 | K19: =J19*104.2% -> 0 | L19: =K19*104.4% -> 0
A20: O0022-7/IE00847/F13636/X096/R0105/001/MMO | B20: Ward Based Plan Grant | G20: =E20+F20 -> 0 | I20: =G20+H20 -> 0 | K20: =J20*104.2% -> 0 | L20: =K20*104.4% -> 0
K21: =J21*104.2% -> 0 | L21: =K21*104.4% -> 0
C22: 0 | E22: =C22+D22 -> 0 | G22: =E22+F22 -> 0 | I22: =G22+H22 -> 0 | K22: =J22*104.2% -> 0 | L22: =K22*104.4% -> 0
B23: Professional Fees | C23: 0 | E23: =C23+D23 -> 0 | G23: =E23+F23 -> 0 | I23: =G23+H23 -> 0 | K23: =J23*104.2% -> 0 | L23: =K23*104.4% -> 0
A24: O0001/IE00584/F0041/X096/R0105/001/MMO | B24: Professional Fees (Epms) and Developing Technical Descriptive Indicators (TDI's) for PMS | C24: 1200000 | E24: =C24+D24 -> 1200000 | G24: =E24+F24 -> 1200000 | H24: -500000 | I24: =G24+H24 -> 700000 | J24: 1200000 | K24: =J24*104.2% -> 1250400 | L24: =K24*104.4% -> 1305417.6
A25: O0001/IE00694/F0041/X096/R0106/001/MMO | B25: Professional Fees ( Development of Annual Report) | J25: 150000 | K25: =J25*104.2% -> 156300 | L25: =K25*104.4% -> 163177.2
A26: O0001/IE00583/F0041/X096/R0105/001/MMO | B26: Professional Fees ( Annual Report Printing ) | C26: 150000 | E26: =C26+D26 -> 150000 | G26: =E26+F26 -> 150000 | I26: =G26+H26 -> 150000 | J26: 100000 | K26: =J26*104.2% -> 104200 | L26: =K26*104.4% -> 108784.8
A27: O0001/IE00583/F0041/X096/R0106/001/MMO | B27: Professional Fees (IDP Printing) | C27: 100000 | E27: =C27+D27 -> 100000 | G27: =E27+F27 -> 100000 | I27: =G27+H27 -> 100000 | J27: 100000 | K27: =J27*104.2% -> 104200 | L27: =K27*104.4% -> 108784.8
A28: O0001/IE00847/F0041/X096/R0106/001/MMO | B28: Professional Fees (Development of GIS Datasets for IDP) | J28: 200000 | K28: =J28*104.2% -> 208400 | L28: =K28*104.4% -> 217569.6
A29: O0001/IE00847/F0041/X096/R3696/001/MMO | B29: Professional Fees (Development of 5TH Generation IDP) | J29: 200000 | K29: =J29*104.2% -> 208400 | L29: =K29*104.4% -> 217569.6
A30: Total General Expenditure | C30: =SUM(C14:C27) -> 4605000 | D30: =SUM(D14:D27) -> 0 | E30: =SUM(E14:E27) -> 4605000 | F30: =SUM(F14:F27) -> 0 | G30: =SUM(G14:G27) -> 4605000 | H30: =SUM(H14:H27) -> -2354696.2 | I30: =SUM(I14:I27) -> 2250303.8 | J30: =SUM(J14:J29) -> 3830000 | K30: =SUM(K14:K29) -> 3990860 | L30: =SUM(L14:L29) -> 4166457.8
E31: =C31+D31 -> 0
A32: Employee Related Cost | C32: 0 | E32: =C32+D32 -> 0 | I32: =G32+H32 -> 0
B33: Employee Related Cost (Salaries and Allowances) | C33: 0 | E33: =C33+D33 -> 0 | G33: =E33+F33 -> 0 | I33: =G33+H33 -> 0
B34: Employee Related Cost (Bonus) | C34: 0 | E34: =C34+D34 -> 0 | G34: =E34+F34 -> 0 | I34: =G34+H34 -> 0
B35: Employee Related Cost (Bargaining Council) | C35: 0 | E35: =C35+D35 -> 0 | G35: =E35+F35 -> 0 | I35: =G35+H35 -> 0
B36: Employee Related Cost (Medical Aid) | C36: 0 | E36: =C36+D36 -> 0 | G36: =E36+F36 -> 0 | I36: =G36+H36 -> 0
B37: Employee Related Cost (Provident Fund and Pension - RA) | C37: 0 | E37: =C37+D37 -> 0 | G37: =E37+F37 -> 0 | I37: =G37+H37 -> 0
B38: Employee Related Cost (UIF) | C38: 0 | E38: =C38+D38 -> 0 | G38: =E38+F38 -> 0 | I38: =G38+H38 -> 0
B39: Employee Related Cost (Long Term Service Awards) | C39: 0 | E39: =C39+D39 -> 0 | G39: =E39+F39 -> 0 | I39: =G39+H39 -> 0
B40: Employee Related Cost (Vehicle Allowance) | C40: 0 | E40: =C40+D40 -> 0 | G40: =E40+F40 -> 0 | I40: =G40+H40 -> 0
B41: Employee Related Cost (Housing Subsidy) | C41: 0 | E41: =C41+D41 -> 0 | G41: =E41+F41 -> 0 | I41: =G41+H41 -> 0
B42: Employee related cost (Leave Pay) | C42: 0 | E42: =C42+D42 -> 0 | G42: =E42+F42 -> 0 | I42: =G42+H42 -> 0
B43: Employee Related Cost (Overtime) | C43: 0 | E43: =C43+D43 -> 0 | G43: =E43+F43 -> 0 | I43: =G43+H43 -> 0
...

Sheet COMMUNITY SERVICES
B1: ='2021 2022 DRAFT BUDGET SUMMARY'!J24 -> -79111.446 | C1: ='2021 2022 DRAFT BUDGET SUMMARY'!J24 -> -79111.446
A2: 2021/2022 DRAFT BUDGET (COMMUNITY SERVICES)
A3: ACCOUNT NUMBER | B3: ACCOUNT DESCRIPTION | C3: 2020/2021 Draft Budget | D3: Consultation Changes | E3: 2020/2021 Final Budget | F3: Adjustments | G3: 2020/2021 First Adjusted Budget | H3: Adjustments | I3: 2020/2021 Second Adjusted Budget | J3: 2021/2022 Draft Budget | K3: 2021/2022 Outer Year One | L3: 2022/2023 Outer Year Two
A5: LIBRARY
A7: REVENUE
A8: Transfers and Subsidies
A9: D0001/IR006985/F13636/X024/R0106/001/COMM | B9: Provincial Library Grant | C9: -924000 | D9: 19000 | E9: =C9+D9 -> -905000 | G9: =E9+F9 -> -905000 | I9: =G9+H9 -> -905000 | J9: -935000 | K9: -981000 | L9: -981000
A10: D0001/IR006972/F13636/X024/R0105/001/COMM | B10: Community Library Services Grant | C10: -893000 | D10: -18000 | E10: =C10+D10 -> -911000 | G10: =E10+F10 -> -911000 | I10: =G10+H10 -> -911000 | J10: -975000 | K10: -1023000 | L10: -1023000
A11: Total Transfers and Subsidies | C11: =SUM(C9:C10) -> -1817000 | D11: =SUM(D9:D10) -> 1000 | E11: =SUM(E9:E10) -> -1816000 | F11: =SUM(F9:F10) -> 0 | G11: =SUM(G9:G10) -> -1816000 | H11: =SUM(H9:H10) -> 0 | I11: =SUM(I9:I10) -> -1816000 | J11: =SUM(J9:J10) -> -1910000 | ... L11: =SUM(L9:L10) -> -2004000
E12: =C12+D12 -> 0
A13: TOTAL REVENUE | C13: =C11 -> -1817000 | D13: =D11 -> 1000 | E13: =E11 -> -1816000 | F13: =F11 -> 0 | G13: =G11 -> -1816000 | H13: =H11 -> 0 | I13: =I11 -> -1816000 | J13: =J11 -> -1910000 | ... L13: =L11 -> -2004000
E14: =C14+D14 -> 0
A15: EXPENDITURE | E15: =C15+D15 -> 0
A16: General Expenditure | E16: =C16+D16 -> 0
E17: =C17+D17 -> 0
B18: Reading Programme | E18: =C18+D18 -> 0
A19: O1255-1/IE00677/F0041/X024/R0106/001/COMM | B19: Catering (Catering for Reading) | C19: 10000 | E19: =C19+D19 -> 10000 | G19: =E19+F19 -> 10000 | H19: -10000 | I19: =G19+H19 -> 0 | J19: 10000 | K19: =J19*104.2% -> 10420 | L19: =K19*104.4% -> 10878.48
A20: O0001/IE00583/F0041/X024/R0105/001/COMM | B20: Library Books | C20: 100000 | E20: =C20+D20 -> 100000 | G20: =E20+F20 -> 100000 | I20: =G20+H20 -> 100000 | J20: 100000 | K20: =J20*104.2% -> 104200 | L20: =K20*104.4% -> 108784.8
A21: O0001/IE00595/F13636/X024/R0105/001/COMM | B21: Skills Development Fund (Library Grant) | C21: 17106.36 | E21: =C21+D21 -> 17106.36 | G21: =E21+F21 -> 17106.36 | I21: =G21+H21 -> 17106.36 | J21: 17106.36 | K21: =J21*104.2% -> 17824.827 | L21: =K21*104.4% -> 18609.12
A22: Total General Expenditure | C22: =SUM(C19:C21) -> 127106.36 | D22: =SUM(D19:D21) -> 0 | E22: =SUM(E19:E21) -> 127106.36 | F22: =SUM(F19:F21) -> 0 | G22: =SUM(G19:G21) -> 127106.36 | H22: =SUM(H19:H21) -> -10000 | I22: =SUM(I19:I21) -> 117106.36 | J22: =SUM(J19:J21) -> 127106.36 | ... L22: =SUM(L19:L21) -> 138272.4
E23: =C23+D23 -> 0
A24: Employee Related Cost | E24: =C24+D24 -> 0
A25: O0001/IE00040/F13636/X024/R0105/001/COMM | B25: Employee Related Cost (Bargaining Council (Library Grant) | C25: 782.88 | E25: =C25+D25 -> 782.88 | G25: =E25+F25 -> 782.88 | H25: 0.0071187499 | I25: =G25+H25 -> 782.88712 | J25: 782.88 | K25: =J25*104.2% -> 815.76096 | L25: =K25*104.4% -> 851.65444
A26: O0001/IE01530/F13636/X024/R0105/001/COMM | B26: Employee Related Cost (Leave Pay Library) | E26: =C26+D26 -> 0 | G26: =E26+F26 -> 0 | H26: 113177.43 | I26: =G26+H26 -> 113177.43 | J26: 70000 | K26: =J26*104.2% -> 72940 | L26: =K26*104.4% -> 76149.36
A27: O0001/IE00045/F13636/X024/R0105/001/COMM | B27: Employee Related Cost Cyber Cadet Library Grant ( UIF ) | C27: 12492.48 | E27: =C27+D27 -> 12492.48 | G27: =E27+F27 -> 12492.48 | H27: 0 | I27: =G27+H27 -> 12492.48 | J27: 12492.48 | K27: =J27*104.2% -> 13017.164 | L27: =K27*104.4% -> 13589.919
A28: O0001/IE00038/F13636/X024/R0105/001/COMM | B28: Employee Related Cost Cyber Cadet Library Grant (Bonus ) | C28: 107559.98 | E28: =C28+D28 -> 107559.98 | G28: =E28+F28 -> 107559.98 | H28: 12658.223 | I28: =G28+H28 -> 120218.2 | J28: 124196.32 | K28: =J28*104.2% -> 129412.57 | L28: =K28*104.4% -> 135106.72
A29: O0001/IE01521/F9283/X024/R0105/001/COMM | B29: Employee Related Cost Cyber Cadet Library Grant (Housing Subsidy) | E29: =C29+D29 -> 0 | G29: =E29+F29 -> 0 | H29: 0 | I29: =G29+H29 -> 0 | K29: =J29*104.2% -> 0 | L29: =K29*104.4% -> 0
A30: O0001/IE00043/F13636/X024/R0105/001/COMM | B30: Employee Related Cost Cyber Cadet Library Grant (Medical Aid ) | C30: 155880 | E30: =C30+D30 -> 155880 | G30: =E30+F30 -> 155880 | H30: 44172 | I30: =G30+H30 -> 200052 | J30: 200052 | K30: =J30*104.2% -> 208454.18 | L30: =K30*104.4% -> 217626.17
A31: O0001/IE03969/F13636/X024/R0105/001/COMM | B31: Employee Related Cost Cyber Cadet Library Grant (Overtime) | E31: =C31+D31 -> 0 | G31: =E31+F31 -> 0 | H31: 20000 | I31: =G31+H31 -> 20000 | J31: 15000 | K31: =J31*104.2% -> 15630 | L31: =K31*104.4% -> 16317.72
A32: O0001/IE00044/F13636/X024/R0105/001/COMM | B32: Employee Related Cost Cyber Cadet Library Grant (Provident Fund and Pension) | C32: 268011.22 | E32: =C32+D32 -> 268011.22 | G32: =E32+F32 -> 268011.22 | H32: 99306.695 | I32: =G32+H32 -> 367317.91 | J32: 375835.38 | K32: =J32*104.2% -> 391620.47 | L32: =K32*104.4% -> 408851.77
A33: O0001/IE00036/F13636/X024/R0105/001/COMM | B33: Employee Related Cost Cyber Cadet Library Grant (Salaries and Allowances) | C33: 1255167.1 | D33: -1000 | E33: =C33+D33 -> 1254167.1 | G33: =E33+F33 -> 1254167.1 | H33: -289314.35 | I33: =G33+H33 -> 964852.73 | J33: 1094534.6 | K33: 1154285 | L33: 1135506.7
A34: O0001/IE00036/F0041/X024/R0105/001/COMM | B34: Employee Related Cost Cyber Cadet Library Grant (Salaries and Allowances) internal Funded Portion | C34: 483927.56 | D34: 1000 | E34: =C34+D34 -> 484927.56 | G34: =E34+F34 -> 484927.56 | H34: 300367.52 | I34: =G34+H34 -> 785295.08 | J34: 758855.25 | K34: 776947.17 | L34: 880699.73
A35: Total Employee Related Cost | C35: =SUM(C25:C34) -> 2283821.2 | D35: =SUM(D25:D34) -> 0 | E35: =SUM(E25:E34) -> 2283821.2 | F35: =SUM(F25:F34) -> 0 | G35: =SUM(G25:G34) -> 2283821.2 | H35: =SUM(H25:H34) -> 300367.52 | I35: =SUM(I25:I34) -> 2584188.7 | J35: =SUM(J25:J34) -> 2651748.9 | ... L35: =SUM(L25:L34) -> 2884699.7
E36: =C36+D36 -> 0
A37: GRAND TOTAL EXPENDITURE (LIBRARY) | C37: =C35+C22 -> 2410927.6 | D37: =D35+D22 -> 0 | E37: =E35+E22 -> 2410927.6 | F37: =F35+F22 -> 0 | G37: =G35+G22 -> 2410927.6 | H37: =H35+H22 -> 290367.52 | I37: =I35+I22 -> 2701295.1 | J37: =J35+J22 -> 2778855.3 | ... L37: =L35+L22 -> 3022972.1
E38: =C38+D38 -> 0
A39: SOCIAL COHESION | E39: =C39+D39 -> 0
E40: =C40+D40 -> 0
A41: General Expenditure | E41: =C41+D41 -> 0
B43: Social Cohesion /Gender | C43: 0 | E43: =C43+D43 -> 0
...

Sheet OPEX WHOLE M
A1: ACCOUNT NUMBER | B1: ACCOUNT DESCRIPTION | C1: 2018/2019 ORIGINAL BUDGET | D1: YTD EXPENDITURE | E1: ADJUSTMENTS | F1: 2018/2019 ADJUSTED BUDGET | G1: 2019/2020 OUTER YEAR ONE | H1: 2020/2021 OUTER YEAR TWO

Sheet CORPORATE SERVICES
B1: ='2021 2022 DRAFT BUDGET SUMMARY'!J24 -> -79111.446 | C1: ='2021 2022 DRAFT BUDGET SUMMARY'!J24 -> -79111.446
A2: 2021/2022 DRAFT BUDGET (CORPORATE SERVICES)
A3: ACCOUNT NUMBER | B3: ACCOUNT DESCRIPTION | C3: 2020/2021 Draft Budget | D3: Consultation Changes | E3: 2020/2021 Final Budget | F3: Adjustments | G3: 2020/2021 First Adjusted Budget | H3: Adjustments | I3: 2020/2021 Second Adjusted Budget | J3: 2021/2022 Draft Budget | K3: 2021/2022 Outer Year One | L3: 2022/2023 Outer Year Two
A5: HUMAN RESOURCES
A6: General Expenditure
B7: Recruitment | K7: 0
A8: O0001/IE00692/F0041/X062/R0105/001/CORP | B8: Recruitme (Vetting) | C8: 65000 | E8: =C8+D8 -> 65000 | G8: =E8+F8 -> 65000 | I8: =G8+H8 -> 65000 | J8: 65000 | K8: =J8*104.2% -> 67730 | L8: =K8*104.4% -> 70710.12
A9: O0001/IE00677/F0041/X062/R0105/001/CORP | B9: Recruitment (Catering) | C9: 45000 | E9: =C9+D9 -> 45000 | G9: =E9+F9 -> 45000 | H9: -30000 | I9: =G9+H9 -> 15000 | J9: 45000 | K9: =J9*104.2% -> 46890 | L9: =K9*104.4% -> 48953.16
A10: O0001/IE00841/F0041/X062/R0105/001/CORP | B10: Recruitment (Medical Examination) | C10: 25000 | E10: =C10+D10 -> 25000 | G10: =E10+F10 -> 25000 | I10: =G10+H10 -> 25000 | J10: 25000 | K10: =J10*104.2% -> 26050 | L10: =K10*104.4% -> 27196.2
A11: O0001/IE00142/F0041/X062/R0105/001/CORP | B11: Recruitment (Relocation ) | C11: 60000 | E11: =C11+D11 -> 60000 | G11: =E11+F11 -> 60000 | H11: -19000 | I11: =G11+H11 -> 41000 | J11: 50000 | K11: =J11*104.2% -> 52100 | L11: =K11*104.4% -> 54392.4
A12: O0001/IE00063/F0041/X062/R0105/001/CORP | B12: Recruitment (S & T) | C12: 35000 | E12: =C12+D12 -> 35000 | G12: =E12+F12 -> 35000 | I12: =G12+H12 -> 35000 | J12: 35000 | K12: =J12*104.2% -> 36470 | L12: =K12*104.4% -> 38074.68
C13: 0 | E13: =C13+D13 -> 0 | G13: =E13+F13 -> 0 | I13: =G13+H13 -> 0 | J13: 0 | K13: =J13*104.2% -> 0 | L13: =K13*104.4% -> 0
A14: O0001/IE00751/F0041/X062/R0105/001/CORP | B14: General Advertisement | C14: 550000 | E14: =C14+D14 -> 550000 | G14: =E14+F14 -> 550000 | H14: 150000 | I14: =G14+H14 -> 700000 | J14: 500000 | K14: =J14*104.2% -> 521000 | L14: =K14*104.4% -> 543924
B15: Employee wellness | C15: 0 | E15: =C15+D15 -> 0 | G15: =E15+F15 -> 0 | I15: =G15+H15 -> 0 | J15: 0 | K15: =J15*104.2% -> 0 | L15: =K15*104.4% -> 0
A16: O1299-4/IE00677/F0041/X051/R0105/001/CORP | B16: Employee wellness (Catering Services) | C16: 150000 | E16: =C16+D16 -> 150000 | G16: =E16+F16 -> 150000 | H16: -109000 | I16: =G16+H16 -> 41000 | J16: 90000 | K16: =J16*104.2% -> 93780 | L16: =K16*104.4% -> 97906.32
A17: O1299-4/IE00754/F0041/X051/R0105/001/CORP | B17: Employee wellness (Promotional Items) | C17: 60000 | E17: =C17+D17 -> 60000 | G17: =E17+F17 -> 60000 | H17: -10000 | I17: =G17+H17 -> 50000 | J17: 60000 | K17: =J17*104.2% -> 62520 | L17: =K17*104.4% -> 65270.88
A18: O1299-4/IE00847/F0041/X051/R0105/001/CORP | B18: Employee wellness (Training and Awareness Campaigns ) | C18: 150000 | E18: =C18+D18 -> 150000 | G18: =E18+F18 -> 150000 | H18: 45120 | I18: =G18+H18 -> 195120 | J18: 150000 | K18: =J18*104.2% -> 156300 | L18: =K18*104.4% -> 163177.2
A19: O1299-4/IE00703/F0041/X051/R0105/001/CORP | B19: Employee wellness (Transport) | C19: 50000 | E19: =C19+D19 -> 50000 | G19: =E19+F19 -> 50000 | H19: -50000 | I19: =G19+H19 -> 0 | J19: 50000 | K19: =J19*104.2% -> 52100 | L19: =K19*104.4% -> 54392.4
B20: OHS | C20: 0 | E20: =C20+D20 -> 0 | G20: =E20+F20 -> 0 | I20: =G20+H20 -> 0 | J20: 0 | K20: =J20*104.2% -> 0 | L20: =K20*104.4% -> 0
A21: O0016-3/IE00060/F0041/X062/R0105/001/CORP | B21: OHS (Accommodation) | C21: 35000 | E21: =C21+D21 -> 35000 | G21: =E21+F21 -> 35000 | H21: -10000 | I21: =G21+H21 -> 25000 | J21: 35000 | K21: =J21*104.2% -> 36470 | L21: =K21*104.4% -> 38074.68
A22: O0016-3/IE00677/F0041/X062/R0105/001/CORP | B22: OHS (Catering) | C22: 25000 | E22: =C22+D22 -> 25000 | G22: =E22+F22 -> 25000 | H22: -10000 | I22: =G22+H22 -> 15000 | J22: 20000 | K22: =J22*104.2% -> 20840 | L22: =K22*104.4% -> 21756.96
A23: O0016-3/IE00754/F0041/X062/R0105/001/CORP | B23: OHS (Promotional material) | C23: 65000 | D23: 100000 | E23: =C23+D23 -> 165000 | G23: =E23+F23 -> 165000 | H23: 198000 | I23: =G23+H23 -> 363000 | J23: 140000 | K23: =J23*104.2% -> 145880 | L23: =K23*104.4% -> 152298.72
B24: Professional Fees | C24: 0 | E24: =C24+D24 -> 0 | G24: =E24+F24 -> 0 | I24: =G24+H24 -> 0 | J24: 0 | K24: =J24*104.2% -> 0 | L24: =K24*104.4% -> 0
A25: O0018-1/IE00835/F0041/X062/R0105/001/CORP | B25: Professional Fees (E-Leave management) | C25: 250000 | E25: =C25+D25 -> 250000 | G25: =E25+F25 -> 250000 | H25: -250000 | I25: =G25+H25 -> 0 | K25: =J25*104.2% -> 0 | L25: =K25*104.4% -> 0
A26: O0018-1/IE00635/F0041/X062/R0105/001/CORP | B26: Professional Fees (Employee Wellness) | C26: 350000 | E26: =C26+D26 -> 350000 | G26: =E26+F26 -> 350000 | H26: =-100000-100000 -> -200000 | I26: =G26+H26 -> 150000 | J26: 150000 | K26: =J26*104.2% -> 156300 | L26: =K26*104.4% -> 163177.2
A27: O1300-3/IE00840/F0041/X051/R0105/001/CORP | B27: Professional Fees PMS /Job Evaluation | H27: 37000 | I27: =G27+H27 -> 37000 | J27: 40000 | K27: =J27*104.2% -> 41680 | L27: =K27*104.4% -> 43513.92
E28: =C28+D28 -> 0 | G28: =E28+F28 -> 0 | I28: =G28+H28 -> 0 | J28: 0 | K28: =J28*104.2% -> 0 | L28: =K28*104.4% -> 0
A29: O0001/IE00595/F0041/X051/R0105/001/CORP | B29: Skills Development Levies (Skills Development Levies) | C29: 102124.41 | E29: =C29+D29 -> 102124.41 | G29: =E29+F29 -> 102124.41 | I29: =G29+H29 -> 102124.41 | J29: 104446.78 | K29: =J29*104.2% -> 108833.54 | L29: =K29*104.4% -> 113622.22
B30: Subsistence & Travelling Allowance | C30: 0 | E30: =C30+D30 -> 0 | G30: =E30+F30 -> 0 | I30: =G30+H30 -> 0 | J30: 0 | K30: =J30*104.2% -> 0 | L30: =K30*104.4% -> 0
A31: O1300-2/IE00061/F0041/X062/R0105/001/CORP | B31: Subsistence & Travelling Allowance (Daily Allowance) | C31: 2100 | E31: =C31+D31 -> 2100 | G31: =E31+F31 -> 2100 | I31: =G31+H31 -> 2100 | J31: 2100 | K31: =J31*104.2% -> 2188.2 | L31: =K31*104.4% -> 2284.4808
A32: O1300-2/IE01581/F0041/X062/R0105/001/CORP | B32: Subsistence,Travelling & Accommodation (Flights) | C32: 30000 | E32: =C32+D32 -> 30000 | G32: =E32+F32 -> 30000 | I32: =G32+H32 -> 30000 | J32: 30000 | K32: =J32*104.2% -> 31260 | L32: =K32*104.4% -> 32635.44
A33: O1300-2/IE00060/F0041/X062/R0105/001/CORP | B33: Subsistence,Travelling & Accommodation (Travel and Subsistence:Domestic:Accommodation) | C33: 52700 | E33: =C33+D33 -> 52700 | G33: =E33+F33 -> 52700 | I33: =G33+H33 -> 52700 | J33: 52700 | K33: =J33*104.2% -> 54913.4 | L33: =K33*104.4% -> 57329.59
A34: O1300-2/IE00810/F0041/X062/R0105/001/CORP | B34: Conferences/Training (Registration Fees:Seminars, Conferences, Workshops and Events:National) | C34: 70000 | E34: =C34+D34 -> 70000 | G34: =E34+F34 -> 70000 | H34: -40000 | I34: =G34+H34 -> 30000 | J34: 70000 | K34: =J34*104.2% -> 72940 | L34: =K34*104.4% -> 76149.36
A35: O1300-2/IE00144/F0041/X062/R0105/001/CORP | B35: Subsistence and Travelling Allowance (Own Transport) | C35: 25000 | E35: =C35+D35 -> 25000 | G35: =E35+F35 -> 25000 | I35: =G35+H35 -> 25000 | J35: 25000 | K35: =J35*104.2% -> 26050 | L35: =K35*104.4% -> 27196.2
A36: O1300-2/IE01583/F0041/X062/R0105/001/CORP | B36: Subsistence,Travelling & Accommodation (Car hire- with operator (shuttle) | C36: 3000 | E36: =C36+D36 -> 3000 | G36: =E36+F36 -> 3000 | I36: =G36+H36 -> 3000 | J36: 3000 | K36: =J36*104.2% -> 3126 | L36: =K36*104.4% -> 3263.544
A37: O1300-2/IE00143/F0041/X062/R0105/001/CORP | B37: Subsistence,Travelling & Accommodation (Car hire- without operator) | C37: 12000 | E37: =C37+D37 -> 12000 | G37: =E37+F37 -> 12000 | I37: =G37+H37 -> 12000 | J37: 12000 | K37: =J37*104.2% -> 12504 | L37: =K37*104.4% -> 13054.176
A38: O1300-2/IE00063/F0041/X062/R0105/001/CORP | B38: Subsistence,Travelling & Accommodation (Incidental costs) | C38: 2108 | E38: =C38+D38 -> 2108 | G38: =E38+F38 -> 2108 | I38: =G38+H38 -> 2108 | J38: 2108 | K38: =J38*104.2% -> 2196.536 | L38: =K38*104.4% -> 2293.1836
B39: Training and Seminars | C39: 0 | E39: =C39+D39 -> 0 | G39: =E39+F39 -> 0 | I39: =G39+H39 -> 0 | J39: 0 | K39: =J39*104.2% -> 0 | L39: =K39*104.4% -> 0
A40: O1232-8/IE00703/F0041/X062/R0105/001/CORP | B40: Training and Seminars (Transport) | C40: 0 | E40: =C40+D40 -> 0 | G40: =E40+F40 -> 0 | I40: =G40+H40 -> 0 | J40: 0 | K40: =J40*104.2% -> 0 | L40: =K40*104.4% -> 0
A41: O1232-8/IE00060/F0041/X062/R0105/001/CORP | B41: Training and Seminars (Accommodation) | C41: 150000 | E41: =C41+D41 -> 150000 | G41: =E41+F41 -> 150000 | H41: -80000 | I41: =G41+H41 -> 70000 | J41: 150000 | K41: =J41*104.2% -> 156300 | L41: =K41*104.4% -> 163177.2
...

Sheet EXECUTIVE COUNCIL
B1: ='2021 2022 DRAFT BUDGET SUMMARY'!J24 -> -79111.446 | C1: ='2021 2022 DRAFT BUDGET SUMMARY'!J24 -> -79111.446
A2: 2021/2022 DRAFT BUDGET (EXECUTIVE COUNCIL)
A3: ACCOUNT NUMBER | B3: ACCOUNT DESCRIPTION | C3: 2020/2021 Draft Budget | D3: Consultation Changes | E3: 2020/2021 Final Budget | F3: Adjustments | G3: 2020/2021 First Adjusted Budget | H3: Adjustments | I3: 2020/2021 Second Adjusted Budget | J3: 2021/2022 Draft Budget | K3: 2021/2022 Outer Year One | L3: 2022/2023 Outer Year Two
A5: EXPENDITURE
A6: Operational Cost
A7: O0001/IE00059/F0041/X044/R0105/001/EXEC | B7: Conferences/Training (Registration Fees:Seminars, Conferences, Workshops and Events:National) | C7: 80000 | E7: =C7+D7 -> 80000 | G7: =E7+F7 -> 80000 | H7: -40000 | I7: =G7+H7 -> 40000 | J7: 60000 | K7: =J7*104.2% -> 62520 | L7: =K7*104.4% -> 65270.88 | R7: =E9-Q9 -> 150000
A8: O1486-1/IE00636/F0041/X044/R0105/001/EXEC | B8: Strategic Planning | C8: 500000 | E8: =C8+D8 -> 500000 | G8: =E8+F8 -> 500000 | H8: -500000 | I8: =G8+H8 -> 0 | J8: 450000 | K8: =J8*104.2% -> 468900 | L8: =K8*104.4% -> 489531.6
A9: O0001/IE00595/F0041/X044/R0105/001/EXEC | B9: Skills Development Levies | C9: 0 | D9: 150000 | E9: =C9+D9 -> 150000 | G9: =E9+F9 -> 150000 | H9: -37952.606 | I9: =G9+H9 -> 112047.39 | J9: 150000 | K9: =J9*104.2% -> 156300 | L9: =K9*104.4% -> 163177.2 | Q9: =M9/7*12 -> 0 | S9: =Q9-I9 -> -112047.39
B10: Subsistence and Travelling Allowance | C10: 0 | E10: =C10+D10 -> 0 | G10: =E10+F10 -> 0 | I10: =G10+H10 -> 0 | J10: 0 | K10: =J10*104.2% -> 0 | L10: =K10*104.4% -> 0
A11: O0001/IE00144/F0041/X044/R0105/001/EXEC | B11: Subsistence and Travelling Allowance (Own Transport) | C11: 1300000 | D11: -150000 | E11: =C11+D11 -> 1150000 | G11: =E11+F11 -> 1150000 | H11: -100000 | I11: =G11+H11 -> 1050000 | J11: 1000000 | K11: =J11*104.2% -> 1042000 | L11: =K11*104.4% -> 1087848
A12: O0001/IE00060/F0041/X044/R0105/001/EXEC | B12: Subsistence,Travelling & Accommodation (Travel and Subsistence:Domestic:Accommodation) | C12: 700000 | E12: =C12+D12 -> 700000 | G12: =E12+F12 -> 700000 | H12: -100000 | I12: =G12+H12 -> 600000 | J12: 500000 | K12: =J12*104.2% -> 521000 | L12: =K12*104.4% -> 543924
A13: O0001/IE01581/F0041/X044/R0105/001/EXEC | B13: Subsistence,Travelling & Accomodation (Travel and Subsistence:Domestic:Transport with Operator:Public Transport:Air Transport) | C13: 200000 | E13: =C13+D13 -> 200000 | G13: =E13+F13 -> 200000 | H13: -100000 | I13: =G13+H13 -> 100000 | J13: 150000 | K13: =J13*104.2% -> 156300 | L13: =K13*104.4% -> 163177.2
A14: O0001/IE01583/F0041/X044/R0105/001/EXEC | B14: Subsistence,Travelling & Accomodation (Travel and Subsistence:Domestic:Transport with Operator:Public Transport:Road Transport) | C14: 50000 | E14: =C14+D14 -> 50000 | G14: =E14+F14 -> 50000 | I14: =G14+H14 -> 50000 | J14: 50000 | K14: =J14*104.2% -> 52100 | L14: =K14*104.4% -> 54392.4
A15: O0001/IE00143/F0041/X044/R0105/001/EXEC | B15: Subsistence,Travelling & Accomodation (Travel and Subsistence:Domestic:Transport without Operator:Car Rental) | C15: 200000 | E15: =C15+D15 -> 200000 | G15: =E15+F15 -> 200000 | I15: =G15+H15 -> 200000 | J15: 200000 | K15: =J15*104.2% -> 208400 | L15: =K15*104.4% -> 217569.6
C16: 0 | E16: =C16+D16 -> 0 | G16: =E16+F16 -> 0 | I16: =G16+H16 -> 0 | J16: 0 | K16: =J16*104.2% -> 0 | L16: =K16*104.4% -> 0
A17: O0001/IE00840/F0041/X044/R0105/001/EXEC | B17: Council Training | C17: 200000 | E17: =C17+D17 -> 200000 | G17: =E17+F17 -> 200000 | H17: -200000 | I17: =G17+H17 -> 0 | J17: 200000 | K17: =J17*104.2% -> 208400 | L17: =K17*104.4% -> 217569.6
A18: Totals Operational Cost | C18: =SUM(C7:C17) -> 3230000 | D18: =SUM(D7:D17) -> 0 | E18: =SUM(E7:E17) -> 3230000 | F18: =SUM(F7:F17) -> 0 | G18: =SUM(G7:G17) -> 3230000 | H18: =SUM(H7:H17) -> -1077952.6 | I18: =SUM(I7:I17) -> 2152047.4 | J18: =SUM(J7:J17) -> 2760000 | ... L18: =SUM(L7:L17) -> 3002460.5
G19: =E19+F19 -> 0
A20: Remuneration of Councillors | G20: =E20+F20 -> 0
A21: O0001/IE00073/F0041/X044/R0105/001/EXEC | B21: Remuneration for councillors (Speaker:Social Contributions:Medial Aid Benefits) | C21: 51741.092 | E21: =C21+D21 -> 51741.092 | G21: =E21+F21 -> 51741.092 | I21: =G21+H21 -> 51741.092 | J21: =E21*104% -> 53810.736 | K21: =J21*104.2% -> 56070.787 | L21: =K21*104.4% -> 58537.902
A22: O0001/IE00816/F0041/X044/R0105/001/EXEC | B22: Remuneration for councillors (Speaker:Allowances and Service Related Benefits:Basic Salary) | C22: 679321.13 | E22: =C22+D22 -> 679321.13 | G22: =E22+F22 -> 679321.13 | I22: =G22+H22 -> 679321.13 | J22: =E22*104% -> 706493.97 | K22: =J22*104.2% -> 736166.72 | L22: =K22*104.4% -> 768558.06
A23: O0001/IE00817/F0041/X044/R0105/001/EXEC | B23: Remuneration for councillors (Speaker:Allowances and Service Related Benefits:Cell phone Allowance) | C23: 54781.86 | E23: =C23+D23 -> 54781.86 | G23: =E23+F23 -> 54781.86 | I23: =G23+H23 -> 54781.86 | J23: =E23*104% -> 56973.134 | K23: =J23*104.2% -> 59366.006 | L23: =K23*104.4% -> 61978.11
A24: O0001/IE07194/F0041/X044/R0105/001/EXEC | B24: Remuneration for councillors (Deputy Executive Mayor:Allowances and Service Related Benefits:Basic Salary) | C24: 637762.57 | E24: =C24+D24 -> 637762.57 | G24: =E24+F24 -> 637762.57 | I24: =G24+H24 -> 637762.57 | J24: =E24*104% -> 663273.07 | K24: =J24*104.2% -> 691130.54 | L24: =K24*104.4% -> 721540.28
A25: O0001/IE07195/F0041/X044/R0105/001/EXEC | B25: Remuneration for councillors (Deputy Executive Mayor:Allowances and Service Related Benefits:Cell phone Allowance) | C25: 46275.36 | E25: =C25+D25 -> 46275.36 | G25: =E25+F25 -> 46275.36 | I25: =G25+H25 -> 46275.36 | J25: =E25*104% -> 48126.374 | K25: =J25*104.2% -> 50147.682 | L25: =K25*104.4% -> 52354.18
A26: O0001/IE07204/F0041/X044/R0105/001/EXEC | B26: Remuneration for councillors (Deputy Executive Mayor:Social Contributions:Medial Aid Benefits) | C26: 36445.929 | E26: =C26+D26 -> 36445.929 | G26: =E26+F26 -> 36445.929 | I26: =G26+H26 -> 36445.929 | J26: =E26*104% -> 37903.766 | K26: =J26*104.2% -> 39495.724 | L26: =K26*104.4% -> 41233.536
A27: O0001/IE07205/F0041/X044/R0105/001/EXEC | B27: Remuneration for councillors (Deputy Executive Mayor:Social Contributions:Pension Fund Contributions) | C27: 93340.94 | E27: =C27+D27 -> 93340.94 | G27: =E27+F27 -> 93340.94 | I27: =G27+H27 -> 93340.94 | J27: =E27*104% -> 97074.577 | K27: =J27*104.2% -> 101151.71 | L27: =K27*104.4% -> 105602.38
A28: O0001/IE07206/F0041/X044/R0105/001/EXEC | B28: Remuneration for councillors (Executive Committee:Allowances and Service Related Benefits:Basic Salary) | C28: 2835500 | E28: =C28+D28 -> 2835500 | G28: =E28+F28 -> 2835500 | I28: =G28+H28 -> 2835500 | J28: =E28*104% -> 2948920 | K28: =J28*104.2% -> 3072774.6 | L28: =K28*104.4% -> 3207976.7
A29: O0001/IE07207/F0041/X044/R0105/001/EXEC | B29: Remuneration for councillors (Executive Committee:Allowances and Service Related Benefits:Cell phone Allowance) | C29: 185101.44 | E29: =C29+D29 -> 185101.44 | G29: =E29+F29 -> 185101.44 | I29: =G29+H29 -> 185101.44 | J29: =E29*104% -> 192505.5 | K29: =J29*104.2% -> 200590.73 | L29: =K29*104.4% -> 209416.72
A30: O0001/IE07216/F0041/X044/R0105/001/EXEC | B30: Municipal Running Cost/Medial Aid Benefits/Equitable Share/Mayor and Council/Administrative or Head O/Default/Executive & Council | C30: 0 | E30: =C30+D30 -> 0 | G30: =E30+F30 -> 0 | I30: =G30+H30 -> 0 | J30: =E30*104% -> 0 | K30: =J30*104.2% -> 0 | L30: =K30*104.4% -> 0
A31: O0001/IE07217/F0041/X044/R0105/001/EXEC | B31: Remuneration for councillors (Executive Committee:Social Contributions:Pension Fund Contributions) | C31: 340260 | E31: =C31+D31 -> 340260 | G31: =E31+F31 -> 340260 | I31: =G31+H31 -> 340260 | J31: =E31*104% -> 353870.4 | K31: =J31*104.2% -> 368732.96 | L31: =K31*104.4% -> 384957.21
A32: O0001/IE07218/F0041/X044/R0105/001/EXEC | B32: Remuneration for councillors (Executive Mayor:Allowances and Service Related Benefits:Basic Salary) | C32: 906204.7 | E32: =C32+D32 -> 906204.7 | G32: =E32+F32 -> 906204.7 | I32: =G32+H32 -> 906204.7 | J32: =E32*104% -> 942452.89 | K32: =J32*104.2% -> 982035.91 | L32: =K32*104.4% -> 1025245.5
... A40: O0001/IE07241/F0041/X044/R0105/001/EXEC | B40: Employee related costs: council (Total for All Other Councillors:Social Contributions:Pension Fund Contributions) | C40: 668700.07 | E40: =C40+D40 -> 668700.07 | G40: =E40+F40 -> 668700.07 | I40: =G40+H40 -> 668700.07 | J40: =E40*104% -> 695448.07 | K40: =J40*104.2% -> 724656.89 | L40: =K40*104.4% -> 756541.8
A41: Total Remuneration of Councillors | C41: =SUM(C21:C40) -> 16246710 | D41: =SUM(D21:D40) -> 0 | E41: =SUM(E21:E40) -> 16246710 | F41: =SUM(F21:F40) -> 0 | G41: =SUM(G21:G40) -> 16246710 | H41: =SUM(H21:H40) -> 0 | I41: =SUM(I21:I40) -> 16246710 | J41: =SUM(J21:J40) -> 16896578 | ... L41: =SUM(L21:L40) -> 18380908
G42: =E42+F42 -> 0
A43: GRAND TOTAL EXPENDITURE (EXECUTIVE COUNCIL) | C43: =C41+C18 -> 19476710 | D43: =D41+D18 -> 0 | E43: =E41+E18 -> 19476710 | F43: =F41+F18 -> 0 | G43: =G41+G18 -> 19476710 | H43: =H41+H18 -> -1077952.6 | I43: =I41+I18 -> 18398757 | J43: =J41+J18 -> 19656578 | ... L43: =L41+L18 -> 21383369
G44: =E44+F44 -> 0
A45: (SUPLUS)/DEFICIT | C45: =C43 -> 19476710 | D45: =D43 -> 0 | E45: =E43 -> 19476710 | F45: =F43 -> 0 | G45: =G43 -> 19476710 | H45: =H43 -> -1077952.6 | I45: =I43 -> 18398757 | J45: =J43 -> 19656578 | ... L45: =L43 -> 21383369

Sheet Sheet1
A2: Upgrade of electrical Infrastructure project in Applesbosch Ward 6 | B2: 14000000
A3: Indigent | B3: 3200000
A4: Electrification Projects | B4: 8100000
A5: Thumamina salaries EPWP (Salaries and Allowances) | B5: 600000
A6: Professional Fees (New Municipal Offices: Design,Eletrification Licence study ,Comprehensive infrastructure Plan,Technical Assessment for electrification usage on Municipal Facilities/Assets and Ward 11 Electrification investigation on malfunctioning and | B6: 5700000
A7: Proffesional Fees (LED Strategy) (Tourism Strategy) (Pilgrimage Packaging) | B7: 700000
A8: Proffessional Fees Community Services | B8: 400000
A9: Proffessional Fees Corporate Services | B9: =3200000-720000 -> 2480000
B10: =SUM(B2:B9) -> 35180000
B11: 26000000
B12: =B10-B11 -> 9180000

Sheet EDP
B1: ='2021 2022 DRAFT BUDGET SUMMARY'!J24 -> -79111.446 | C1: ='2021 2022 DRAFT BUDGET SUMMARY'!J24 -> -79111.446
A2: 2021/2022 DARFT BUDGET (ECONOMIC DEVELOPMENT AND PLANNING)
A3: ACCOUNT NUMBER | B3: ACCOUNT DESCRIPTION | C3: 2020/2021 Draft Budget | D3: Consultation Changes | E3: 2020/2021 Final Budget | F3: Adjustments | G3: 2020/2021 First Adjusted Budget | H3: Adjustments | I3: 2020/2021 Second Adjusted Budget | J3: 2021/2022 Draft Budget | K3: 2021/2022 Outer Year One | L3: 2022/2023 Outer Year Two
A5: LOCAL ECONOMIC DEVELOPMENT
A6: General Expenditure
B7: Ndwedwe Music Festival
A8: O1354-1/IE00636/F0041/X098/R0106/001/EDP | B8: Ndwedwe Music Festival (Grant) | C8: 1400000 | E8: =C8+D8 -> 1400000 | G8: =E8+F8 -> 1400000 | H8: -1400000 | I8: =G8+H8 -> 0 | J8: 1200000 | K8: =J8*104.2% -> 1250400 | L8: =K8*104.4% -> 1305417.6
A9: O1291-5/IE00634/F0041/X098/R0106/001/EDP | B9: Ndwedwe Music Festival (Electrical Lights) | C9: 250000 | E9: =C9+D9 -> 250000 | G9: =E9+F9 -> 250000 | H9: -250000 | I9: =G9+H9 -> 0 | J9: 150000 | K9: =J9*104.2% -> 156300 | L9: =K9*104.4% -> 163177.2
A10: O1291-5/IE00663/F0041/X098/R0106/001/EDP | B10: Ndwedwe Music Festival (Fencing) | C10: 200000 | E10: =C10+D10 -> 200000 | G10: =E10+F10 -> 200000 | H10: -200000 | I10: =G10+H10 -> 0 | J10: 150000 | K10: =J10*104.2% -> 156300 | L10: =K10*104.4% -> 163177.2
C11: 0 | E11: =C11+D11 -> 0 | G11: =E11+F11 -> 0 | I11: =G11+H11 -> 0 | K11: =J11*104.2% -> 0 | L11: =K11*104.4% -> 0
B12: Maskandi Festival | C12: 0 | E12: =C12+D12 -> 0 | G12: =E12+F12 -> 0 | I12: =G12+H12 -> 0 | K12: =J12*104.2% -> 0 | L12: =K12*104.4% -> 0
A13: O1306-1/IE00754/F0041/X098/R0106/001/EDP | B13: Maskandi Festival (Promotional Gifts) | C13: 300000 | E13: =C13+D13 -> 300000 | G13: =E13+F13 -> 300000 | H13: -105000 | I13: =G13+H13 -> 195000 | J13: 30000 | K13: =J13*104.2% -> 31260 | L13: =K13*104.4% -> 32635.44
A14: O1306-1/IE00677/F0041/X098/R0106/001/EDP | B14: Maskandi Festival (Catering) | C14: 30000 | E14: =C14+D14 -> 30000 | G14: =E14+F14 -> 30000 | H14: -490 | I14: =G14+H14 -> 29510 | J14: 30000 | K14: =J14*104.2% -> 31260 | L14: =K14*104.4% -> 32635.44
A15: O1306-1/IE00667/F0041/X098/R0106/001/EDP | B15: Maskandi Festival (Stage and Sound System) | C15: 80000 | E15: =C15+D15 -> 80000 | G15: =E15+F15 -> 80000 | H15: 90145 | I15: =G15+H15 -> 170145 | J15: 60000 | K15: =J15*104.2% -> 62520 | L15: =K15*104.4% -> 65270.88
C16: 0 | E16: =C16+D16 -> 0 | G16: =E16+F16 -> 0 | I16: =G16+H16 -> 0 | K16: =J16*104.2% -> 0 | L16: =K16*104.4% -> 0
B17: Cluster Commercial Gardens | C17: 0 | E17: =C17+D17 -> 0 | G17: =E17+F17 -> 0 | I17: =G17+H17 -> 0 | K17: =J17*104.2% -> 0 | L17: =K17*104.4% -> 0
A18: O1217-2/IE00534/F0041/X098/R0106/001/EDP | B18: Cluster Commercial Gardens (agricultural tool) | C18: 300000 | E18: =C18+D18 -> 300000 | G18: =E18+F18 -> 300000 | H18: -72500 | I18: =G18+H18 -> 227500 | J18: 200000 | K18: =J18*104.2% -> 208400 | L18: =K18*104.4% -> 217569.6
A19: O1217-5/IE00663/F0041/X098/R0106/001/EDP | B19: Cluster Commercial Gardens (Gardens Fencing) | C19: 500000 | E19: =C19+D19 -> 500000 | G19: =E19+F19 -> 500000 | H19: =300000+7025 -> 307025 | I19: =G19+H19 -> 807025 | J19: 200000 | K19: =J19*104.2% -> 208400 | L19: =K19*104.4% -> 217569.6
A20: O1217-5/IE00629/F0041/X098/R0106/001/EDP | B20: Cluster Commercial Gardens (Water Supply system) | C20: 400000 | E20: =C20+D20 -> 400000 | G20: =E20+F20 -> 400000 | I20: =G20+H20 -> 400000 | J20: 150000 | K20: =J20*104.2% -> 156300 | L20: =K20*104.4% -> 163177.2
A21: O1217-1/IE00642/F0041/X098/R0106/001/EDP | B21: Cluster Commercial Gardens (Support Seeds) | C21: 400000 | E21: =C21+D21 -> 400000 | G21: =E21+F21 -> 400000 | H21: 41290.88 | I21: =G21+H21 -> 441290.88 | J21: 250000 | K21: =J21*104.2% -> 260500 | L21: =K21*104.4% -> 271962
E22: =C22+D22 -> 0 | G22: =E22+F22 -> 0 | I22: =G22+H22 -> 0 | K22: =J22*104.2% -> 0 | L22: =K22*104.4% -> 0
B23: Cooperatives Development | C23: 0 | E23: =C23+D23 -> 0 | G23: =E23+F23 -> 0 | I23: =G23+H23 -> 0 | K23: =J23*104.2% -> 0 | L23: =K23*104.4% -> 0
A24: O1249-4/IE00677/F0041/X098/R0106/001/EDP | B24: Cooperatives Development (Catering) | C24: 50000 | E24: =C24+D24 -> 50000 | G24: =E24+F24 -> 50000 | H24: -7025 | I24: =G24+H24 -> 42975 | J24: 30000 | K24: =J24*104.2% -> 31260 | L24: =K24*104.4% -> 32635.44
A25: O1249-3/IE00672/F0041/X098/R0106/001/EDP | B25: Cooperatives Development (Identification and Database),(Gaps Identification) | C25: 300000 | E25: =C25+D25 -> 300000 | G25: =E25+F25 -> 300000 | H25: 90000 | I25: =G25+H25 -> 390000 | J25: 60000 | K25: =J25*104.2% -> 62520 | L25: =K25*104.4% -> 65270.88
A26: O1249-5/IE00703/F0041/X098/R0106/001/EDP | B26: Cooperatives Development (Transport) | C26: 100000 | E26: =C26+D26 -> 100000 | G26: =E26+F26 -> 100000 | H26: -50000 | I26: =G26+H26 -> 50000 | J26: 30000 | K26: =J26*104.2% -> 31260 | L26: =K26*104.4% -> 32635.44
A27: O1249-3/IE00847/F0041/X098/R0106/001/EDP | B27: Cooperatives Development (Support) | C27: 300000 | E27: =C27+D27 -> 300000 | G27: =E27+F27 -> 300000 | H27: =100000-100000-100000 -> -100000 | I27: =G27+H27 -> 200000 | J27: 200000 | K27: =J27*104.2% -> 208400 | L27: =K27*104.4% -> 217569.6
A28: O0001/IE00756/F0041/X098/R0105/001/EDP | B28: Branding (bunners and bilboards for mini-factories | C28: 80000 | E28: =C28+D28 -> 80000 | G28: =E28+F28 -> 80000 | I28: =G28+H28 -> 80000 | K28: =J28*104.2% -> 0 | L28: =K28*104.4% -> 0
E29: =C29+D29 -> 0 | G29: =E29+F29 -> 0 | I29: =G29+H29 -> 0 | K29: =J29*104.2% -> 0 | L29: =K29*104.4% -> 0
B30: LED | C30: 0 | E30: =C30+D30 -> 0 | G30: =E30+F30 -> 0 | I30: =G30+H30 -> 0 | K30: =J30*104.2% -> 0 | L30: =K30*104.4% -> 0
A31: O1217-3/IE00667/F0041/X098/R0106/001/EDP | B31: LED (Sound system) | C31: 50000 | E31: =C31+D31 -> 50000 | G31: =E31+F31 -> 50000 | I31: =G31+H31 -> 50000 | J31: 20000 | K31: =J31*104.2% -> 20840 | L31: =K31*104.4% -> 21756.96
A32: O1217-3/IE00703/F0041/X098/R0106/001/EDP | B32: LED (Transport) | C32: 60000 | E32: =C32+D32 -> 60000 | G32: =E32+F32 -> 60000 | I32: =G32+H32 -> 60000 | J32: 80000 | K32: =J32*104.2% -> 83360 | L32: =K32*104.4% -> 87027.84
A33: O1217-3/IE00677/F0041/X098/R0106/001/EDP | B33: LED (Catering Services) | C33: 60000 | E33: =C33+D33 -> 60000 | G33: =E33+F33 -> 60000 | I33: =G33+H33 -> 60000 | J33: 60000 | K33: =J33*104.2% -> 62520 | L33: =K33*104.4% -> 65270.88
A35: O1244-1/IE00604/F0041/X098/R0105/001/EDP | B35: EDP Uniform and Protective Clothing | C35: 70000 | E35: =C35+D35 -> 70000 | G35: =E35+F35 -> 70000 | I35: =G35+H35 -> 70000 | J35: 50000 | K35: =J35*104.2% -> 52100 | L35: =K35*104.4% -> 54392.4
A36: O0001/IE00016/F0041/X098/R0106/001/EDP | B36: Membership Fee | E36: =C36+D36 -> 0 | G36: =E36+F36 -> 0 | H36: 5950 | I36: =G36+H36 -> 5950 | J36: 10000 | K36: =J36*104.2% -> 10420 | L36: =K36*104.4% -> 10878.48
A37: O0001/IE00595/F0041/X098/R0105/001/EDP | B37: Skills Development Levies (Skills Development Levies) | C37: 45519.233 | E37: =C37+D37 -> 45519.233 | G37: =E37+F37 -> 45519.233 | I37: =G37+H37 -> 45519.233 | J37: 46268.317 | K37: =J37*104.2% -> 48211.586 | L37: =K37*104.4% -> 50332.896
A38: O0001/IE00060/F0041/X098/R0105/001/EDP | B38: Subsistence,Travelling & Accommodation (Travel and Subsistence:Domestic:Accommodation) | E38: 0 | H38: 11292.63 | I38: =G38+H38 -> 11292.63 | J38: 11292.63 | K38: =J38*104.2% -> 11766.92 | L38: =K38*104.4% -> 12284.665
A39: O0001/IE00144/F0041/X098/R0105/001/EDP | B39: Subsistence and Travelling Allowance (Own Transport) | H39: 15000 | I39: =G39+H39 -> 15000 | J39: 15000 | K39: =J39*104.2% -> 15630 | L39: =K39*104.4% -> 16317.72
A40: O0001/IE01581/F0041/X098/R0105/001/EDP | B40: Subsistence,Travelling & Accommodation (Flights) | H40: 16000 | I40: =G40+H40 -> 16000 | J40: 16000 | K40: =J40*104.2% -> 16672 | L40: =K40*104.4% -> 17405.568
A41: O0001/IE00143/F0041/X098/R0105/001/EDP | B41: Accommodation (Car hire- without operator) | H41: 10000 | I41: =G41+H41 -> 10000 | J41: 10000 | K41: =J41*104.2% -> 10420 | L41: =K41*104.4% -> 10878.48
K42: =J42*104.2% -> 0 | L42: =K42*104.4% -> 0
...

Sheet TECHNICAL SERVICES
B1: ='2021 2022 DRAFT BUDGET SUMMARY'!J24 -> -79111.446 | C1: ='2021 2022 DRAFT BUDGET SUMMARY'!J24 -> -79111.446
A2: 2021/2021 DRAFT BUDGET (TECHNICAL SERVICES)
A3: ACCOUNT NUMBER | B3: ACCOUNT DESCRIPTION | C3: 2020/2021 Draft Budget | D3: Consultation Changes | E3: 2020/2021 Final Budget | F3: Adjustments | G3: 2020/2021 First Adjusted Budget | H3: Adjustments | I3: 2020/2021 Second Adjusted Budget | J3: 2021/2022 Draft Budget | K3: 2021/2022 Outer Year One | L3: 2022/2023 Outer Year Two
A5: PUBLIC WORKS
A6: REVENUE
A7: Transfers and Subsidies
A8: D0001/IR02310/F1169/X116/R0106/001/TECH | B8: National Government (Expanded Public Works Programme Integrated Grant) | C8: -1760000 | E8: =C8+D8 -> -1760000 | G8: =E8+F8 -> -1760000 | I8: =G8+H8 -> -1760000 | J8: -2412000
A9: Total Transfers and Subsidies | C9: =SUM(C8:C8) -> -1760000 | D9: =SUM(D8:D8) -> 0 | E9: =SUM(E8:E8) -> -1760000 | F9: =SUM(F8:F8) -> 0 | G9: =SUM(G8:G8) -> -1760000 | H9: =SUM(H8:H8) -> 0 | I9: =SUM(I8:I8) -> -1760000 | J9: =SUM(J8:J8) -> -2412000 | ... L9: =SUM(L8:L8) -> 0
A11: TOTAL REVENUE | C11: =C9 -> -1760000 | D11: =D9 -> 0 | E11: =E9 -> -1760000 | F11: =F9 -> 0 | G11: =G9 -> -1760000 | H11: =H9 -> 0 | I11: =I9 -> -1760000 | J11: =J9 -> -2412000 | ... L11: =L9 -> 0
G12: =E12+F12 -> 0
A13: General Expenditure | C13: 0 | G13: =E13+F13 -> 0
B14: EPWP | G14: =E14+F14 -> 0
A15: O0001/IE00607/F0041/X116/R0105/001/TECH | B15: EPWP Fuel | C15: 50000 | E15: =C15+D15 -> 50000 | G15: =E15+F15 -> 50000 | H15: -20000 | I15: =G15+H15 -> 30000 | J15: 50000 | K15: =J15*104.2% -> 52100 | L15: =K15*104.4% -> 54392.4
A16: O0001/IE00550/F0041/X116/R0106/001/TECH | B16: Assets less than the Capitalization Threshold (EPWP) | C16: 0 | E16: =C16+D16 -> 0 | G16: =E16+F16 -> 0 | I16: =G16+H16 -> 0 | K16: =J16*104.2% -> 0 | L16: =K16*104.4% -> 0
A17: O1279-1/IE00604/F0041/X116/R0106/001/TECH | B17: EPWP Uniform and Protective Clothing | C17: 150000 | E17: =C17+D17 -> 150000 | G17: =E17+F17 -> 150000 | H17: 39700 | I17: =G17+H17 -> 189700 | J17: 150000 | K17: =J17*104.2% -> 156300 | L17: =K17*104.4% -> 163177.2
B18: Repairs and Maintenance | C18: 0 | E18: =C18+D18 -> 0 | G18: =E18+F18 -> 0 | I18: =G18+H18 -> 0 | K18: =J18*104.2% -> 0 | L18: =K18*104.4% -> 0
A19: O2817-1/IE00651/F0041/X116/R3711/001/TECH | B19: Repairs and Maintenance (Sport Field in Ward 10) | C19: 200000 | E19: =C19+D19 -> 200000 | G19: =E19+F19 -> 200000 | H19: -200000 | I19: =G19+H19 -> 0 | J19: 200000 | K19: =J19*104.2% -> 208400 | L19: =K19*104.4% -> 217569.6
A20: O0968-1/IE00649/F0041/X116/R0106/001/TECH | B20: Repairs and Maintenance (unplanned Maitenance) | C20: 900000 | D20: -300000 | E20: =C20+D20 -> 600000 | G20: =E20+F20 -> 600000 | H20: =400000+100000+43685.86 -> 543685.86 | I20: =G20+H20 -> 1143685.9 | J20: 500000 | K20: =J20*104.2% -> 521000 | L20: =K20*104.4% -> 543924
A21: O3523-2/IE00649/F0041/X116/R0105/001/TECH | B21: Repairs and Maintenance (Bhamshela Renovation) | C21: 400000 | E21: =C21+D21 -> 400000 | G21: =E21+F21 -> 400000 | H21: -180000 | I21: =G21+H21 -> 220000 | K21: =J21*104.2% -> 0 | L21: =K21*104.4% -> 0
A22: O3259-1/IE00649/F0041/X116/R3702/001/TECH | B22: Repairs and Maintenance (Johnny Makhatini Ward 15) | C22: 750000 | D22: 320000 | E22: =C22+D22 -> 1070000 | G22: =E22+F22 -> 1070000 | H22: -604815 | I22: =G22+H22 -> 465185 | J22: 300000 | K22: =J22*104.2% -> 312600 | L22: =K22*104.4% -> 326354.4
A23: O3259-2/IE00649/F0041/X116/R3696/001/TECH | B23: Repairs and Maintenance (Hall 1 (TBC) | C23: 300000 | D23: -100000 | E23: =C23+D23 -> 200000 | G23: =E23+F23 -> 200000 | H23: -200000 | I23: =G23+H23 -> 0 | K23: =J23*104.2% -> 0 | L23: =K23*104.4% -> 0
A24: O3259-3/IE00649/F0041/X116/R3707/001/TECH | B24: Repairs and Maintenance (Hall 2 (TBC) | C24: 300000 | D24: -100000 | E24: =C24+D24 -> 200000 | G24: =E24+F24 -> 200000 | H24: -200000 | I24: =G24+H24 -> 0 | K24: =J24*104.2% -> 0 | L24: =K24*104.4% -> 0
A25: O3259-4/IE00649/F0041/X116/R3708/001/TECH | B25: Repairs and Maintenance (Hall 3 (TBC) | C25: 300000 | D25: -100000 | E25: =C25+D25 -> 200000 | G25: =E25+F25 -> 200000 | H25: -200000 | I25: =G25+H25 -> 0 | K25: =J25*104.2% -> 0 | L25: =K25*104.4% -> 0
A26: O3259-5/IE00649/F0041/X116/R3709/001/TECH | B26: Repairs and Maintenance (Hall 4 (TBC) | C26: 300000 | D26: -90000 | E26: =C26+D26 -> 210000 | G26: =E26+F26 -> 210000 | H26: -210000 | I26: =G26+H26 -> 0 | K26: =J26*104.2% -> 0 | L26: =K26*104.4% -> 0
A27: O3259-6/IE00649/F0041/X116/R3709/001/TECH | B27: Repairs and Maintenance (Wewe Hall) | D27: 41000 | E27: =C27+D27 -> 41000 | G27: =E27+F27 -> 41000 | H27: -41000 | I27: =G27+H27 -> 0 | K27: =J27*104.2% -> 0 | L27: =K27*104.4% -> 0
A28: O1565-1/IE00651/F0041/X116/R0106/001/TECH | B28: Repairs and Maintenance (Vehicles) | C28: 850000 | E28: =C28+D28 -> 850000 | G28: =E28+F28 -> 850000 | I28: =G28+H28 -> 850000 | J28: 750000 | K28: =J28*104.2% -> 781500 | L28: =K28*104.4% -> 815886
A29: O0370-1/IE00651/F0041/X116/R0106/001/TECH | B29: Repairs and Maintenance (Road Maintenance) | C29: 1400000 | E29: =C29+D29 -> 1400000 | G29: =E29+F29 -> 1400000 | H29: =2508325.62-239861.65-519150.14 -> 1749313.8 | I29: =G29+H29 -> 3149313.8 | J29: 1500000 | K29: =J29*104.2% -> 1563000 | L29: =K29*104.4% -> 1631772
A30: O1116-1/IE00651/F0041/X116/R0106/001/TECH | B30: Repairs and Maintenance (Local Sport facilities Grass Cutting ) | C30: 700000 | E30: =C30+D30 -> 700000 | G30: =E30+F30 -> 700000 | H30: -154498.83 | I30: =G30+H30 -> 545501.17 | J30: 400000 | K30: =J30*104.2% -> 416800 | L30: =K30*104.4% -> 435139.2
A31: O2390-1/IE00651/F0041/X116/R0106/001/TECH | B31: Roads maintenance Covid 19 Respond | F31: 14000000 | G31: =E31+F31 -> 14000000 | I31: =G31+H31 -> 14000000 | K31: =J31*104.2% -> 0 | L31: =K31*104.4% -> 0
K32: =J32*104.2% -> 0 | L32: =K32*104.4% -> 0
A33: O0001/IE00584/F0041/X116/R0105/001/TECH | B33: Membership Fees (Membership Fees) | C33: 25000 | E33: =C33+D33 -> 25000 | G33: =E33+F33 -> 25000 | I33: =G33+H33 -> 25000 | J33: 25000 | K33: =J33*104.2% -> 26050 | L33: =K33*104.4% -> 27196.2
A34: O0001/IE00534/F0041/X116/R0106/001/TECH | B34: Construction Materials | C34: 0 | E34: =C34+D34 -> 0 | G34: =E34+F34 -> 0 | I34: =G34+H34 -> 0 | J34: 200000 | K34: =J34*104.2% -> 208400 | L34: =K34*104.4% -> 217569.6
B35: Subsistence and Travelling Allowance | C35: 0 | E35: =C35+D35 -> 0 | G35: =E35+F35 -> 0 | I35: =G35+H35 -> 0 | K35: =J35*104.2% -> 0 | L35: =K35*104.4% -> 0
A36: O0001/IE00144/F0041/X116/R0105/001/TECH | B36: Subsistence and Travelling Allowance (Own Transport) | C36: 15000 | E36: =C36+D36 -> 15000 | G36: =E36+F36 -> 15000 | I36: =G36+H36 -> 15000 | J36: 15000 | K36: =J36*104.2% -> 15630 | L36: =K36*104.4% -> 16317.72
A37: O0001/IE01581/F0041/X116/R0105/001/TECH | B37: Municipal Running Cost/Air Transport/Equitable Share/Roads/Administrative or Head O/Default/Technical Services | C37: 15000 | E37: =C37+D37 -> 15000 | G37: =E37+F37 -> 15000 | I37: =G37+H37 -> 15000 | J37: 15000 | K37: =J37*104.2% -> 15630 | L37: =K37*104.4% -> 16317.72
A38: O0001/IE00143/F0041/X116/R0105/001/TECH | B38: Subsistence,Travelling & Accommodation (Car hire- without operator) | C38: 10000 | E38: =C38+D38 -> 10000 | G38: =E38+F38 -> 10000 | I38: =G38+H38 -> 10000 | J38: 10000 | K38: =J38*104.2% -> 10420 | L38: =K38*104.4% -> 10878.48
A39: O0001/IE00595/F0041/X116/R0105/001/TECH | B39: Skills Development Levies (Skills Development levies) | H39: 60161.65 | I39: =G39+H39 -> 60161.65 | J39: 62619.827 | K39: =J39*104.2% -> 65249.86 | L39: =K39*104.4% -> 68120.854
E40: =C40+D40 -> 0 | G40: =E40+F40 -> 0 | I40: =G40+H40 -> 0 | K40: =J40*104.2% -> 0 | L40: =K40*104.4% -> 0
A41: O1346-1/IE00847/F0041/X116/R0105/001/TECH | B41: Professional Fees (Infrastructure Assets Maintenance Plan) | C41: 700000 | D41: -700000 | E41: =C41+D41 -> 0 | G41: =E41+F41 -> 0 | I41: =G41+H41 -> 0 | K41: =J41*104.2% -> 0 | L41: =K41*104.4% -> 0
A42: O0001/IE00792/F0041/X116/R0105/001/TECH | B42: Software licence | C42: 100000 | E42: =C42+D42 -> 100000 | G42: =E42+F42 -> 100000 | H42: -100000 | I42: =G42+H42 -> 0 | J42: 100000 | K42: =J42*104.2% -> 104200 | L42: =K42*104.4% -> 108784.8
...

Sheet 2021 2022 DRAFT BUDGET SUMMARY
A1: 2021/2022 DRAFT BUDGET SUMMARY
A2: DESCRIPTION | C2: FINANCE | D2: MUNICIPAL MANAGER | E2: CORPORATE SERVICES | F2: COMMUNITY SERVICES | G2: EDP | H2: EXECUTIVE COUNCIL | I2: TECHNICAL SERVICES | J2: TOTAL
A4: Revenue By Source
A5: Property rates | B5: =FINANCE!#REF! -> #REF! | C5: =FINANCE!J47 -> -19748493 | J5: =SUM(C5:I5) -> -19748493
A6: Services Charges | F6: ='COMMUNITY SERVICES'!J146 -> -100000 | J6: =SUM(C6:I6) -> -100000
A7: Rental of facilities and equipment | B7: =FINANCE!#REF! -> #REF! | C7: =FINANCE!J25 -> -533472.7 | J7: =SUM(C7:I7) -> -533472.7
A8: Interest earned - external investments | B8: =FINANCE!#REF! -> #REF! | C8: =FINANCE!J8 -> -6500000 | J8: =SUM(C8:I8) -> -6500000
A9: Interest earned - outstanding debtors | B9: =FINANCE!#REF! -> #REF! | C9: =FINANCE!J9 -> -941852.48 | J9: =SUM(C9:I9) -> -941852.48
A10: Licences and permits | B10: =FINANCE!#REF! -> #REF! | C10: =FINANCE!J14 -> -1500 | J10: =SUM(C10:I10) -> -1500
A11: Transfers and subsidies | B11: =FINANCE!#REF! -> #REF! | C11: =FINANCE!J52 -> -168366000 | D11: ='MUNICIPAL MANAGER'!J10+'MUNICIPAL MANAGER'!J390 -> 0 | F11: ='COMMUNITY SERVICES'!J13+'COMMUNITY SERVICES'!J179 -> -1910000 | I11: ='TECHNICAL SERVICES'!J9 -> -2412000 | J11: =SUM(C11:I11) -> -172688000
A12: Other revenue | B12: =FINANCE!#REF!+FINANCE!#REF! -> #REF! | C12: =FINANCE!J20+FINANCE!J33 -> -555500 | J12: =SUM(C12:I12) -> -555500
A13: TOTAL REVENUE | B13: =SUM(B5:B12) -> #REF! | C13: =SUM(C5:C12) -> -1.9664682e+08 | D13: =SUM(D5:D12) -> 0 | E13: =SUM(E5:E12) -> 0 | F13: =SUM(F5:F12) -> -2010000 | G13: =SUM(G5:G12) -> 0 | H13: =SUM(H5:H12) -> 0 | I13: =SUM(I5:I12) -> -2412000 | J13: =SUM(J5:J12) -> -2.0106882e+08
A15: Expenditure By Type
A16: Employee related costs | B16: =FINANCE!#REF! -> #REF! | C16: =FINANCE!J123 -> 14753422 | D16: ='MUNICIPAL MANAGER'!J443 -> 13887851 | E16: ='CORPORATE SERVICES'!J67+'CORPORATE SERVICES'!J105+'CORPORATE SERVICES'!IJ64+'CORPORATE SERVICES'!IJ89 -> 15581693 | F16: ='COMMUNITY SERVICES'!J35+'COMMUNITY SERVICES'!IJ26+'COMMUNITY SERVICES'!J170+'COMMUNITY SERVICES'!J239+'COMMUNITY SERVICES'!J200 -> 9733865 | G16: =EDP!J87+EDP!J132 -> 6697968.7 | I16: ='TECHNICAL SERVICES'!J116+'TECHNICAL SERVICES'!J69 -> 11986675 | J16: =SUM(C16:I16) -> 72641475
A17: Remuneration of councillors | H17: ='EXECUTIVE COUNCIL'!J41 -> 16896578 | J17: =SUM(C17:I17) -> 16896578 | K17: =J16+J17 -> 89538053 | L17: =K17*1/100 -> 895380.53
A18: Depreciation & asset impairment | B18: =FINANCE!#REF! -> #REF! | C18: =FINANCE!J68 -> 23495630 | J18: =SUM(C18:I18) -> 23495630
A19: Other expenditure | B19: =FINANCE!#REF!+FINANCE!#REF! -> #REF! | C19: =FINANCE!J138+FINANCE!J101 -> 12283338 | D19: ='MUNICIPAL MANAGER'!J447-'MUNICIPAL MANAGER'!J443 -> 25792732 | E19: ='CORPORATE SERVICES'!J48+'CORPORATE SERVICES'!J92+'CORPORATE SERVICES'!J152+'CORPORATE SERVICES'!J176 -> 25516622 | F19: ='COMMUNITY SERVICES'!J22+'COMMUNITY SERVICES'!J123+'COMMUNITY SERVICES'!J157+'COMMUNITY SERVICES'!J187+'COMMUNITY SERVICES'!J219 -> 7903262 | G19: =EDP!J68+EDP!J120 -> 7082450 | H19: ='EXECUTIVE COUNCIL'!J18 -> 2760000 | I19: ='TECHNICAL SERVICES'!J46+'TECHNICAL SERVICES'!J104 -> 4867619.8 | J19: =SUM(C19:I19) -> 86206024
A20: Transfers and Subsidies | C20: =FINANCE!J127 -> 750000 | E20: ='CORPORATE SERVICES'!J71 -> 1000000 | F20: 0 | I20: ='TECHNICAL SERVICES'!J76 -> 0 | J20: =SUM(C20:I20) -> 1750000
A21: Loss on disposal of PPE | J21: =SUM(C21:I21) -> 0
A22: TOTAL EXPENDITURE | C22: =SUM(C16:C21) -> 51282390 | D22: =SUM(D16:D21) -> 39680583 | E22: =SUM(E16:E21) -> 42098315 | F22: =SUM(F16:F21) -> 17637127 | G22: =SUM(G16:G21) -> 13780419 | H22: =SUM(H16:H21) -> 19656578 | I22: =SUM(I16:I21) -> 16854295 | J22: =SUM(J16:J21) -> 2.0098971e+08 | M22: =L22+J22-J17-2500000 -> 1.8159313e+08
A24: (Surplus)/Deficit | C24: =C22+C13 -> -1.4536443e+08 | D24: =D22+D13 -> 39680583 | E24: =E22+E13 -> 42098315 | F24: =F22+F13 -> 15627127 | G24: =G22+G13 -> 13780419 | H24: =H22+H13 -> 19656578 | I24: =I22+I13 -> 14442295 | J24: =J22+J13 -> -79111.446
