Workbook

Sheet FINANCE
B1: ='2020 2021 ADJU BUDGET SUMMARY'!J24 -> -58996.246 | C1: ='2020 2021 ADJU BUDGET SUMMARY'!J24 -> -58996.246
A2: 2020/2021 APPROVED ADJUSTED BUDGET (BUDGET AND TREASURY OFFICE)
A3: ACCOUNT NUMBER | B3: ACCOUNT DESCRIPTION | C3: 2020/2021 Draft Budget | D3: Consultation Changes | E3: 2020/2021 Final Budget | F3: Adjustments | G3: 2020/2021 First Adjusted Budget | H3: Adjustments | I3: 2020/2021 Second Adjusted Budget | J3: 2021/2022 Outer Year One | K3: 2022/2023 Outer Year Two | L3: Total Expenditure as at 31 January 2021 | M3: Pending Amount | N3: Available budget After Adjustment
A5: FINANCE
A6: REVENUE
A7: Interest, Dividend and Rent on Land
A8: D0001/IR01061/F2495/X049/R0105/001/FIN | B8: Interest Earned on Short Term Investments | C8: -11000000 | E8: =C8+D8 -> -11000000 | G8: =E8+F8 -> -11000000 | H8: 5000000 | I8: =G8+H8 -> -6000000 | J8: =C8*104.6% -> -11506000 | K8: =J8*104.6% -> -12035276 | L8: -3082182.2 | N8: =I8-L8-M8 -> -2917817.8
A9: D0001/IR01068/F2494/X049/R0106/001/FIN | B9: Interest on Outstanding Debtors | C9: -800000 | E9: =C9+D9 -> -800000 | G9: =E9+F9 -> -800000 | H9: -70926.24 | I9: =G9+H9 -> -870926.24 | J9: =C9*104.6% -> -836800 | K9: =J9*104.6% -> -875292.8 | L9: -517655.79 | N9: =I9-L9-M9 -> -353270.45
A10: Total | C10: =SUM(C8:C9) -> -11800000 | D10: =SUM(D8:D9) -> 0 | E10: =SUM(E8:E9) -> -11800000 | F10: =SUM(F8:F9) -> 0 | G10: =SUM(G8:G9) -> -11800000 | H10: =SUM(H8:H9) -> 4929073.8 | I10: =SUM(I8:I9) -> -6870926.2 | J10: =SUM(J8:J9) -> -12342800 | ... N10: =SUM(N8:N9) -> -3271088.3
A12: Licences or Permits
A13: D0001/IR01410/F0044/X049/R0106/001/FIN | B13: Business Licensing | C13: -1000 | E13: =C13+D13 -> -1000 | G13: =E13+F13 -> -1000 | H13: -500 | I13: =G13+H13 -> -1500 | J13: =C13*104.6% -> -1046 | K13: =J13*104.6% -> -1094.116 | L13: -1370 | N13: =I13-L13-M13 -> -130
A14: Total | C14: =SUM(C13) -> -1000 | D14: =SUM(D13) -> 0 | E14: =SUM(E13) -> -1000 | F14: =SUM(F13) -> 0 | G14: =SUM(G13) -> -1000 | H14: =SUM(H13) -> -500 | I14: =SUM(I13) -> -1500 | J14: =SUM(J13) -> -1046 | ... N14: =SUM(N13) -> -130
A16: Operational Revenue | E16: =C16+D16 -> 0
A17: D0001/IR01411/F0045/X049/R0105/001/FIN | B17: Administrative Handling | C17: -300000 | E17: =C17+D17 -> -300000 | G17: =E17+F17 -> -300000 | H17: 100000 | I17: =G17+H17 -> -200000 | J17: =C17*104.6% -> -313800 | K17: =J17*104.6% -> -328234.8 | N17: =I17-L17-M17 -> -200000
A18: D0001/IR01420/F0045/X049/R0105/001/FIN | B18: Insurance Refund | C18: -50000 | E18: =C18+D18 -> -50000 | G18: =E18+F18 -> -50000 | H18: -300000 | I18: =G18+H18 -> -350000 | J18: =C18*104.6% -> -52300 | K18: =J18*104.6% -> -54705.8 | L18: -321844.17 | N18: =I18-L18-M18 -> -28155.83
A19: D0001/IR01424/F0045/X049/R0105/001/FIN | B19: Skills Development Levy Refund | C19: -100000 | E19: =C19+D19 -> -100000 | G19: =E19+F19 -> -100000 | I19: =G19+H19 -> -100000 | J19: =C19*104.6% -> -104600 | K19: =J19*104.6% -> -109411.6 | N19: =I19-L19-M19 -> -100000
A20: Total | C20: =SUM(C17:C19) -> -450000 | D20: =SUM(D17:D19) -> 0 | E20: =SUM(E17:E19) -> -450000 | F20: =SUM(F17:F19) -> 0 | G20: =SUM(G17:G19) -> -450000 | H20: =SUM(H17:H19) -> -200000 | I20: =SUM(I17:I19) -> -650000 | J20: =SUM(J17:J19) -> -470700 | ... N20: =SUM(N17:N19) -> -328155.83
E21: =C21+D21 -> 0
A22: Rental from Fixed Assets | E22: =C22+D22 -> 0
A23: D0001/IR01221/F0045/X049/R0106/001/FIN | B23: HALL HIRE | C23: -5000 | E23: =C23+D23 -> -5000 | G23: =E23+F23 -> -5000 | I23: =G23+H23 -> -5000 | J23: =C23*104.6% -> -5230 | K23: =J23*104.6% -> -5470.58 | L23: -3000 | N23: =I23-L23-M23 -> -2000
A24: D0001/IR01265/F0046/X049/R0105/001/FIN | B24: Rental Income | C24: -600000 | E24: =C24+D24 -> -600000 | G24: =E24+F24 -> -600000 | H24: 92045.48 | I24: =G24+H24 -> -507954.52 | J24: =C24*104.6% -> -627600 | K24: =J24*104.6% -> -656469.6 | L24: -296096.8 | N24: =I24-L24-M24 -> -211857.72
A25: Total | C25: =SUM(C23:C24) -> -605000 | D25: =SUM(D23:D24) -> 0 | E25: =SUM(E23:E24) -> -605000 | F25: =SUM(F23:F24) -> 0 | G25: =SUM(G23:G24) -> -605000 | H25: =SUM(H23:H24) -> 92045.48 | I25: =SUM(I23:I24) -> -512954.52 | J25: =SUM(J23:J24) -> -632830 | ... N25: =SUM(N23:N24) -> -213857.72
E26: =C26+D26 -> 0
A27: Sales of Goods and Rendering of Services | E27: =C27+D27 -> 0
A28: D0001/IR01113/F0047/X049/R0106/001/FIN | B28: Sale of Tender Documents | C28: -100000 | E28: =C28+D28 -> -100000 | G28: =E28+F28 -> -100000 | H28: -400000 | I28: =G28+H28 -> -500000 | J28: =C28*104.6% -> -104600 | K28: =J28*104.6% -> -109411.6 | L28: -404782.19 | N28: =I28-L28-M28 -> -95217.81
A29: D0001/IR01429/F0047/X049/R0106/001/FIN | B29: Building Plan Approval | C29: -2000 | E29: =C29+D29 -> -2000 | G29: =E29+F29 -> -2000 | H29: 1000 | I29: =G29+H29 -> -1000 | J29: =C29*104.6% -> -2092 | K29: =J29*104.6% -> -2188.232 | L29: 0 | N29: =I29-L29-M29 -> -1000
A30: D0001/IR01435/F0045/X049/R0105/001/FIN | B30: Clearance Certificates | C30: -1000 | E30: =C30+D30 -> -1000 | G30: =E30+F30 -> -1000 | H30: -4000 | I30: =G30+H30 -> -5000 | J30: =C30*104.6% -> -1046 | K30: =J30*104.6% -> -1094.116 | L30: -3000 | N30: =I30-L30-M30 -> -2000
A31: D0001/IR01451/F0001/X049/R0105/001/FIN | B31: Hiring of plant and Equipment | C31: -5000 | E31: =C31+D31 -> -5000 | G31: =E31+F31 -> -5000 | H31: 3000 | I31: =G31+H31 -> -2000 | J31: =C31*104.6% -> -5230 | K31: =J31*104.6% -> -5470.58 | N31: =I31-L31-M31 -> -2000
A32: D0001/IR05707/F4441/X049/R0106/001/FIN | B32: Grant from Ilembe | C32: 0 | E32: =C32+D32 -> 0 | G32: =E32+F32 -> 0 | I32: =G32+H32 -> 0 | J32: =C32*104.6% -> 0 | K32: =J32*104.6% -> 0 | N32: =I32-L32 -> 0
A33: Total | C33: =SUM(C28:C32) -> -108000 | D33: =SUM(D28:D32) -> 0 | E33: =SUM(E28:E32) -> -108000 | F33: =SUM(F28:F32) -> 0 | G33: =SUM(G28:G32) -> -108000 | H33: =SUM(H28:H32) -> -400000 | I33: =SUM(I28:I32) -> -508000 | J33: =SUM(J28:J32) -> -112968 | ... N33: =SUM(N28:N32) -> -100217.81
E34: =C34+D34 -> 0
A35: Property Rates | E35: =C35+D35 -> 0
A36: D0001/IR01038/F2496/X049/R0105/001/FIN | B36: Property Rates:Communal Land:Business and Commercial | C36: -2862112.5 | E36: =C36+D36 -> -2862112.5 | G36: =E36+F36 -> -2862112.5 | I36: =G36+H36 -> -2862112.5 | J36: =C36*104.6% -> -2993769.7 | K36: =J36*104.6% -> -3131483.1 | L36: -1183251.2 | N36: =I36-L36-M36 -> -1678861.3
A37: D0001/IR01040/F0001/X049/R0105/001/FIN | B37: Property Rates (Communal Land:Other) | C37: 0 | E37: =C37+D37 -> 0 | G37: =E37+F37 -> 0 | I37: =G37+H37 -> 0 | J37: =C37*104.6% -> 0 | K37: =J37*104.6% -> 0 | L37: 0 | N37: =I37-L37-M37 -> 0
A38: D0001/IR01043/F2496/X049/R0106/001/FIN | B38: Property Rates (Farm Properties:Agricultural Purposes) | C38: -1030727.7 | E38: =C38+D38 -> -1030727.7 | G38: =E38+F38 -> -1030727.7 | I38: =G38+H38 -> -1030727.7 | J38: =C38*104.6% -> -1078141.1 | K38: =J38*104.6% -> -1127735.6 | L38: -1259181 | N38: =I38-L38-M38 -> 228453.35
A39: D0001/IR01048/F2496/X049/R0106/001/FIN | B39: Property Rates (Farm Properties:Residential Properties) | C39: -274010.16 | E39: =C39+D39 -> -274010.16 | G39: =E39+F39 -> -274010.16 | I39: =G39+H39 -> -274010.16 | J39: =C39*104.6% -> -286614.63 | K39: =J39*104.6% -> -299798.9 | L39: -182279.2 | N39: =I39-L39-M39 -> -91730.96
A40: D0001/IR01481/F0001/X049/R0106/001/FIN | B40: Property Rates (Agricultural Property) | C40: -613.08 | E40: =C40+D40 -> -613.08 | G40: =E40+F40 -> -613.08 | I40: =G40+H40 -> -613.08 | J40: =C40*104.6% -> -641.28168 | K40: =J40*104.6% -> -670.78064 | L40: 0 | N40: =I40-L40-M40 -> -613.08
A41: D0001/IR01484/F2496/X049/R0106/001/FIN | B41: Property Rates (Industrial Properties) | C41: -39140 | E41: =C41+D41 -> -39140 | G41: =E41+F41 -> -39140 | I41: =G41+H41 -> -39140 | J41: =C41*104.6% -> -40940.44 | K41: =J41*104.6% -> -42823.7 | L41: -31497.71 | N41: =I41-L41-M41 -> -7642.29
A42: D0001/IR01487/F2496/X049/R0105/001/FIN | B42: Property Rates (Municipal Properties) | C42: -26537.02 | E42: =C42+D42 -> -26537.02 | G42: =E42+F42 -> -26537.02 | I42: =G42+H42 -> -26537.02 | J42: =C42*104.6% -> -27757.723 | K42: =J42*104.6% -> -29034.578 | L42: -1830.93 | N42: =I42-L42-M42 -> -24706.09
A43: D0001/IR01494/F0001/X049/R0106/001/FIN | B43: Property Rates (Special Rating Area) | C43: -7860 | E43: =C43+D43 -> -7860 | G43: =E43+F43 -> -7860 | I43: =G43+H43 -> -7860 | J43: =C43*104.6% -> -8221.56 | K43: =J43*104.6% -> -8599.7518 | L43: 0 | N43: =I43-L43-M43 -> -7860
...

Sheet MUNICIPAL MANAGER
B1: ='2020 2021 ADJU BUDGET SUMMARY'!J24 -> -58996.246 | C1: ='2020 2021 ADJU BUDGET SUMMARY'!J24 -> -58996.246
A2: 2020/2021 APPROVED ADJUSTED BUDGET (MUNICIPAL MANAGER)
A3: ACCOUNT NUMBER | B3: ACCOUNT DESCRIPTION | C3: 2020/2021 Draft Budget | D3: Consultation Changes | E3: 2020/2021 Final Budget | F3: Adjustments | G3: 2020/2021 First Adjusted Budget | H3: Adjustments | I3: 2020/2021 Second Adjusted Budget | J3: 2021/2022 Outer Year One | K3: 2022/2023 Outer Year Two | L3: Total Expenditure as at 31 January 2021 | M3: Pending Amount | N3: Available budget After Adjustment
A5: IDP AND PMS X096)
A7: REVENUE
A8: Transfers and Subsidies
A9: D0001/IR006972/F13636/X096/R0105/001/MMO | B9: Ward Based Plan Grant | G9: =E9+F9 -> 0 | I9: =G9+H9 -> 0 | J9: -500000 | N9: =I9-L9-M9 -> 0
A10: Total Transfers and Subsidies | C10: =SUM(C9) -> 0 | D10: =SUM(D9) -> 0 | E10: =SUM(E9) -> 0 | F10: =SUM(F9) -> 0 | G10: =SUM(G9) -> 0 | H10: =SUM(H9) -> 0 | I10: =SUM(I9) -> 0 | J10: =SUM(J9) -> -500000 | ... N10: =SUM(N9) -> 0
A12: General Expenditure
B13: Budget and IDP Programme/ Mayoral Imbizo
A14: O1236-2/IE00677/F0041/X096/R0106/001/MMO | B14: IDP Programme (Catering) | C14: 765000 | E14: =C14+D14 -> 765000 | G14: =E14+F14 -> 765000 | H14: =-49490-190000-202607 -> -442097 | I14: =G14+H14 -> 322903 | J14: =C14*104.6% -> 800190 | K14: =J14*104.6% -> 836998.74 | L14: 315510 | M14: 7393 | N14: =I14-L14-M14 -> 0
A15: O1236-2/IE00626/F0041/X096/R0106/001/MMO | B15: IDP Programme (Entertainment) | C15: 80000 | E15: =C15+D15 -> 80000 | G15: =E15+F15 -> 80000 | H15: =33000+120000-120000 -> 33000 | I15: =G15+H15 -> 113000 | J15: =C15*104.6% -> 83680 | K15: =J15*104.6% -> 87529.28 | L15: 113000 | N15: =I15-L15-M15 -> 0
A16: O1236-2/IE00628/F0041/X096/R0106/001/MMO | B16: IDP Programme (Sound system) | C16: 340000 | E16: =C16+D16 -> 340000 | G16: =E16+F16 -> 340000 | H16: =152000-100000-122099.2 -> -70099.2 | I16: =G16+H16 -> 269900.8 | J16: =C16*104.6% -> 355640 | K16: =J16*104.6% -> 371999.44 | L16: 241000.8 | M16: 28900 | N16: =I16-L16-M16 -> 0
A17: O1236-2/IE00571/F0041/X096/R0106/001/MMO | B17: IDP Programme (Tent) | C17: 1300000 | E17: =C17+D17 -> 1300000 | G17: =E17+F17 -> 1300000 | H17: =-275500-100000-400000-200000 -> -975500 | I17: =G17+H17 -> 324500 | J17: =C17*104.6% -> 1359800 | K17: =J17*104.6% -> 1422350.8 | L17: 324500 | N17: =I17-L17-M17 -> 0
A18: O1236-2/IE00703/F0041/X096/R0106/001/MMO | B18: IDP Programme (Transport) | C18: 670000 | E18: =C18+D18 -> 670000 | G18: =E18+F18 -> 670000 | H18: =-250000-150000 -> -400000 | I18: =G18+H18 -> 270000 | J18: =C18*104.6% -> 700820 | K18: =J18*104.6% -> 733057.72 | L18: 270000 | N18: =I18-L18-M18 -> 0
G19: =E19+F19 -> 0 | I19: =G19+H19 -> 0 | N19: =I19-L19-M19 -> 0
A20: O0022-7/IE00847/F13636/X096/R0105/001/MMO | B20: Ward Based Plan Grant | G20: =E20+F20 -> 0 | I20: =G20+H20 -> 0 | J20: 500000 | N20: =I20-L20-M20 -> 0
C21: 0 | E21: =C21+D21 -> 0 | G21: =E21+F21 -> 0 | I21: =G21+H21 -> 0 | J21: =C21*104.6% -> 0 | K21: =J21*104.6% -> 0 | N21: =I21-L21-M21 -> 0
B22: Professional Fees | C22: 0 | E22: =C22+D22 -> 0 | G22: =E22+F22 -> 0 | I22: =G22+H22 -> 0 | J22: =C22*104.6% -> 0 | K22: =J22*104.6% -> 0 | N22: =I22-L22-M22 -> 0
A23: O0001/IE00584/F0041/X096/R0105/001/MMO | B23: Professional Fees (Epms) and Developing Technical Descriptive Indicators (TDI's) for PMS | C23: 1200000 | E23: =C23+D23 -> 1200000 | G23: =E23+F23 -> 1200000 | H23: -500000 | I23: =G23+H23 -> 700000 | J23: =C23*104.6% -> 1255200 | K23: =J23*104.6% -> 1312939.2 | L23: 950 | N23: =I23-L23-M23 -> 699050
A24: O0001/IE00583/F0041/X096/R0105/001/MMO | B24: Professional Fees ( Annual Report Printing ) | C24: 150000 | E24: =C24+D24 -> 150000 | G24: =E24+F24 -> 150000 | I24: =G24+H24 -> 150000 | J24: =C24*104.6% -> 156900 | K24: =J24*104.6% -> 164117.4 | L24: 74835 | M24: 74835 | N24: =I24-L24-M24 -> 330
A25: O0001/IE00583/F0041/X096/R0106/001/MMO | B25: Professional Fees (IDP Printing) | C25: 100000 | E25: =C25+D25 -> 100000 | G25: =E25+F25 -> 100000 | I25: =G25+H25 -> 100000 | J25: =C25*104.6% -> 104600 | K25: =J25*104.6% -> 109411.6 | L25: 0 | N25: =I25-L25-M25 -> 100000
A26: Total General Expenditure | C26: =SUM(C14:C25) -> 4605000 | D26: =SUM(D14:D25) -> 0 | E26: =SUM(E14:E25) -> 4605000 | F26: =SUM(F14:F25) -> 0 | G26: =SUM(G14:G25) -> 4605000 | H26: =SUM(H14:H25) -> -2354696.2 | I26: =SUM(I14:I25) -> 2250303.8 | J26: =SUM(J14:J25) -> 5316830 | ... N26: =SUM(N14:N25) -> 799380
E27: =C27+D27 -> 0 | J27: =C27*104.6% -> 0 | K27: =J27*104.6% -> 0
A28: Employee Related Cost | C28: 0 | E28: =C28+D28 -> 0 | I28: =G28+H28 -> 0 | J28: =C28*104.6% -> 0 | K28: =J28*104.6% -> 0
B29: Employee Related Cost (Salaries and Allowances) | C29: 0 | E29: =C29+D29 -> 0 | G29: =E29+F29 -> 0 | I29: =G29+H29 -> 0 | J29: =C29*104.6% -> 0 | K29: =J29*104.6% -> 0 | N29: =I29-L29-M29 -> 0
B30: Employee Related Cost (Bonus) | C30: 0 | E30: =C30+D30 -> 0 | G30: =E30+F30 -> 0 | I30: =G30+H30 -> 0 | J30: =C30*104.6% -> 0 | K30: =J30*104.6% -> 0 | N30: =I30-L30-M30 -> 0
B31: Employee Related Cost (Bargaining Council) | C31: 0 | E31: =C31+D31 -> 0 | G31: =E31+F31 -> 0 | I31: =G31+H31 -> 0 | J31: =C31*104.6% -> 0 | K31: =J31*104.6% -> 0 | N31: =I31-L31-M31 -> 0
B32: Employee Related Cost (Medical Aid) | C32: 0 | E32: =C32+D32 -> 0 | G32: =E32+F32 -> 0 | I32: =G32+H32 -> 0 | J32: =C32*104.6% -> 0 | K32: =J32*104.6% -> 0 | N32: =I32-L32-M32 -> 0
B33: Employee Related Cost (Provident Fund and Pension - RA) | C33: 0 | E33: =C33+D33 -> 0 | G33: =E33+F33 -> 0 | I33: =G33+H33 -> 0 | J33: =C33*104.6% -> 0 | K33: =J33*104.6% -> 0 | N33: =I33-L33-M33 -> 0
B34: Employee Related Cost (UIF) | C34: 0 | E34: =C34+D34 -> 0 | G34: =E34+F34 -> 0 | I34: =G34+H34 -> 0 | J34: =C34*104.6% -> 0 | K34: =J34*104.6% -> 0 | N34: =I34-L34-M34 -> 0
B35: Employee Related Cost (Long Term Service Awards) | C35: 0 | E35: =C35+D35 -> 0 | G35: =E35+F35 -> 0 | I35: =G35+H35 -> 0 | J35: =C35*104.6% -> 0 | K35: =J35*104.6% -> 0 | N35: =I35-L35-M35 -> 0
B36: Employee Related Cost (Vehicle Allowance) | C36: 0 | E36: =C36+D36 -> 0 | G36: =E36+F36 -> 0 | I36: =G36+H36 -> 0 | J36: =C36*104.6% -> 0 | K36: =J36*104.6% -> 0 | N36: =I36-L36-M36 -> 0
B37: Employee Related Cost (Housing Subsidy) | C37: 0 | E37: =C37+D37 -> 0 | G37: =E37+F37 -> 0 | I37: =G37+H37 -> 0 | J37: =C37*104.6% -> 0 | K37: =J37*104.6% -> 0 | N37: =I37-L37-M37 -> 0
B38: Employee related cost (Leave Pay) | C38: 0 | E38: =C38+D38 -> 0 | G38: =E38+F38 -> 0 | I38: =G38+H38 -> 0 | J38: =C38*104.6% -> 0 | K38: =J38*104.6% -> 0 | N38: =I38-L38-M38 -> 0
B39: Employee Related Cost (Overtime) | C39: 0 | E39: =C39+D39 -> 0 | G39: =E39+F39 -> 0 | I39: =G39+H39 -> 0 | J39: =C39*104.6% -> 0 | K39: =J39*104.6% -> 0 | N39: =I39-L39-M39 -> 0
A40: Total Employee Related Cost | E40: =SUM(E29:E39) -> 0 | F40: =SUM(F29:F39) -> 0 | G40: =SUM(G29:G39) -> 0 | H40: =SUM(H29:H39) -> 0 | I40: =SUM(I29:I39) -> 0 | J40: =SUM(J29:J39) -> 0 | K40: =SUM(K29:K39) -> 0 | L40: =SUM(L29:L39) -> 0 | ... N40: =SUM(N29:N39) -> 0
E41: =C41+D41 -> 0
A42: GRAND TOTAL EXPENDITURE (IPD/PMS) | C42: =C40+C26 -> 4605000 | D42: =D40+D26 -> 0 | E42: =E40+E26 -> 4605000 | F42: =F40+F26 -> 0 | G42: =G40+G26 -> 4605000 | H42: =H40+H26 -> -2354696.2 | I42: =I40+I26 -> 2250303.8 | J42: =J40+J26 -> 5316830 | ... N42: =N40+N26 -> 799380
C43: 0 | E43: =C43+D43 -> 0 | J43: =C43*104.6% -> 0 | K43: =J43*104.6% -> 0
...

Sheet COMMUNITY SERVICES
B1: ='2020 2021 ADJU BUDGET SUMMARY'!J24 -> -58996.246 | C1: ='2020 2021 ADJU BUDGET SUMMARY'!J24 -> -58996.246
A2: 2020/2021 APPROVED ADJUSTED BUDGET (COMMUNITY SERVICES)
A3: ACCOUNT NUMBER | B3: ACCOUNT DESCRIPTION | C3: 2020/2021 Draft Budget | D3: Consultation Changes | E3: 2020/2021 Final Budget | F3: Adjustments | G3: 2020/2021 First Adjusted Budget | H3: Adjustments | I3: 2020/2021 Second Adjusted Budget | J3: 2021/2022 Outer Year One | K3: 2022/2023 Outer Year Two | L3: Total Expenditure as at 31 January 2021 | M3: Pending Amount | N3: Available budget After Adjustment
A5: LIBRARY
A7: REVENUE
A8: Transfers and Subsidies
A9: D0001/IR006985/F13636/X024/R0106/001/COMM | B9: Provincial Library Grant | C9: -924000 | D9: 19000 | E9: =C9+D9 -> -905000 | G9: =E9+F9 -> -905000 | I9: =G9+H9 -> -905000 | J9: -935000 | K9: -981000 | L9: -905000 | N9: =I9-L9-M9 -> 0
A10: D0001/IR006972/F13636/X024/R0105/001/COMM | B10: Community Library Services Grant | C10: -893000 | D10: -18000 | E10: =C10+D10 -> -911000 | G10: =E10+F10 -> -911000 | I10: =G10+H10 -> -911000 | J10: -975000 | K10: -1023000 | L10: -671274.31 | N10: =I10-L10-M10 -> -239725.69
A11: Total Transfers and Subsidies | C11: =SUM(C9:C10) -> -1817000 | D11: =SUM(D9:D10) -> 1000 | E11: =SUM(E9:E10) -> -1816000 | F11: =SUM(F9:F10) -> 0 | G11: =SUM(G9:G10) -> -1816000 | H11: =SUM(H9:H10) -> 0 | I11: =SUM(I9:I10) -> -1816000 | J11: =SUM(J9:J10) -> -1910000 | ... N11: =SUM(N9:N10) -> -239725.69
E12: =C12+D12 -> 0
A13: TOTAL REVENUE | C13: =C11 -> -1817000 | D13: =D11 -> 1000 | E13: =E11 -> -1816000 | F13: =F11 -> 0 | G13: =G11 -> -1816000 | H13: =H11 -> 0 | I13: =I11 -> -1816000 | J13: =J11 -> -1910000 | ... N13: =N11 -> -239725.69
E14: =C14+D14 -> 0
A15: EXPENDITURE | E15: =C15+D15 -> 0
A16: General Expenditure | E16: =C16+D16 -> 0
E17: =C17+D17 -> 0
B18: Reading Programme | E18: =C18+D18 -> 0
A19: O1255-1/IE00677/F0041/X024/R0106/001/COMM | B19: Catering (Catering for Reading) | C19: 10000 | E19: =C19+D19 -> 10000 | G19: =E19+F19 -> 10000 | H19: -10000 | I19: =G19+H19 -> 0 | J19: =C19*104.6% -> 10460 | K19: =J19*104.6% -> 10941.16 | N19: =I19-L19-M19 -> 0
A20: O0001/IE00583/F0041/X024/R0105/001/COMM | B20: Library Books | C20: 100000 | E20: =C20+D20 -> 100000 | G20: =E20+F20 -> 100000 | I20: =G20+H20 -> 100000 | J20: =C20*104.6% -> 104600 | K20: =J20*104.6% -> 109411.6 | N20: =I20-L20-M20 -> 100000
A21: O0001/IE00595/F13636/X024/R0105/001/COMM | B21: Skills Development Fund (Library Grant) | C21: 17106.36 | E21: =C21+D21 -> 17106.36 | G21: =E21+F21 -> 17106.36 | I21: =G21+H21 -> 17106.36 | J21: =C21*105.4% -> 18030.103 | K21: =J21*105.4% -> 19003.729 | L21: 9977.37 | N21: =I21-L21-M21 -> 7128.99
A22: Total General Expenditure | C22: =SUM(C19:C21) -> 127106.36 | D22: =SUM(D19:D21) -> 0 | E22: =SUM(E19:E21) -> 127106.36 | F22: =SUM(F19:F21) -> 0 | G22: =SUM(G19:G21) -> 127106.36 | H22: =SUM(H19:H21) -> -10000 | I22: =SUM(I19:I21) -> 117106.36 | J22: =SUM(J19:J21) -> 133090.1 | ... N22: =SUM(N19:N21) -> 107128.99
E23: =C23+D23 -> 0 | J23: =C23*105.4% -> 0 | K23: =J23*105.4% -> 0
A24: Employee Related Cost | E24: =C24+D24 -> 0 | J24: =C24*105.4% -> 0 | K24: =J24*105.4% -> 0
A25: O0001/IE00040/F13636/X024/R0105/001/COMM | B25: Employee Related Cost (Bargaining Council (Library Grant) | C25: 782.88 | E25: =C25+D25 -> 782.88 | G25: =E25+F25 -> 782.88 | H25: 0.0071187499 | I25: =G25+H25 -> 782.88712 | J25: =C25*104.6% -> 818.89248 | K25: =J25*104.6% -> 856.56153 | L25: 554.4 | N25: =I25-L25-M25 -> 228.48712
A26: O0001/IE01530/F13636/X024/R0105/001/COMM | B26: Employee Related Cost (Leave Pay Library) | E26: =C26+D26 -> 0 | G26: =E26+F26 -> 0 | H26: 113177.43 | I26: =G26+H26 -> 113177.43 | J26: =C26*104.6% -> 0 | K26: =J26*104.6% -> 0 | L26: 113177.43 | N26: =I26-L26-M26 -> 0
A27: O0001/IE00045/F13636/X024/R0105/001/COMM | B27: Employee Related Cost Cyber Cadet Library Grant ( UIF ) | C27: 12492.48 | E27: =C27+D27 -> 12492.48 | G27: =E27+F27 -> 12492.48 | H27: 0 | I27: =G27+H27 -> 12492.48 | J27: =C27*104.6% -> 13067.134 | K27: =J27*104.6% -> 13668.222 | L27: 6938.18 | N27: =I27-L27-M27 -> 5554.3
A28: O0001/IE00038/F13636/X024/R0105/001/COMM | B28: Employee Related Cost Cyber Cadet Library Grant (Bonus ) | C28: 107559.98 | E28: =C28+D28 -> 107559.98 | G28: =E28+F28 -> 107559.98 | H28: 12658.223 | I28: =G28+H28 -> 120218.2 | J28: =C28*104.6% -> 112507.74 | K28: =J28*104.6% -> 117683.09 | L28: 120218.2 | N28: =I28-L28-M28 -> 0
A29: O0001/IE01521/F9283/X024/R0105/001/COMM | B29: Employee Related Cost Cyber Cadet Library Grant (Housing Subsidy) | E29: =C29+D29 -> 0 | G29: =E29+F29 -> 0 | H29: 0 | I29: =G29+H29 -> 0 | J29: =C29*104.6% -> 0 | K29: =J29*104.6% -> 0 | L29: 0 | N29: =I29-L29-M29 -> 0
A30: O0001/IE00043/F13636/X024/R0105/001/COMM | B30: Employee Related Cost Cyber Cadet Library Grant (Medical Aid ) | C30: 155880 | E30: =C30+D30 -> 155880 | G30: =E30+F30 -> 155880 | H30: 44172 | I30: =G30+H30 -> 200052 | J30: =C30*104.6% -> 163050.48 | K30: =J30*104.6% -> 170550.8 | L30: 104092.8 | N30: =I30-L30-M30 -> 95959.2
A31: O0001/IE03969/F13636/X024/R0105/001/COMM | B31: Employee Related Cost Cyber Cadet Library Grant (Overtime) | E31: =C31+D31 -> 0 | G31: =E31+F31 -> 0 | H31: 20000 | I31: =G31+H31 -> 20000 | J31: =C31*104.6% -> 0 | K31: =J31*104.6% -> 0 | L31: 9345.76 | N31: =I31-L31-M31 -> 10654.24
A32: O0001/IE00044/F13636/X024/R0105/001/COMM | B32: Employee Related Cost Cyber Cadet Library Grant (Provident Fund and Pension) | C32: 268011.22 | E32: =C32+D32 -> 268011.22 | G32: =E32+F32 -> 268011.22 | H32: 99306.695 | I32: =G32+H32 -> 367317.91 | J32: =C32*104.6% -> 280339.73 | K32: =J32*104.6% -> 293235.36 | L32: 195011.17 | N32: =I32-L32-M32 -> 172306.74
A33: O0001/IE00036/F13636/X024/R0105/001/COMM | B33: Employee Related Cost Cyber Cadet Library Grant (Salaries and Allowances) | C33: 1255167.1 | D33: -1000 | E33: =C33+D33 -> 1254167.1 | G33: =E33+F33 -> 1254167.1 | H33: -289314.35 | I33: =G33+H33 -> 964852.73 | J33: =C33*104.6% -> 1312904.8 | K33: =J33*104.6% -> 1373298.4 | L33: 1023747.1 | N33: =I33-L33-M33 -> -58894.4
A34: O0001/IE00036/F0041/X024/R0105/001/COMM | B34: Employee Related Cost Cyber Cadet Library Grant (Salaries and Allowances) internal Funded Portion | C34: 483927.56 | D34: 1000 | E34: =C34+D34 -> 484927.56 | G34: =E34+F34 -> 484927.56 | H34: 300367.52 | I34: =G34+H34 -> 785295.08 | J34: =C34*105.4% -> 510059.65 | K34: =J34*105.4% -> 537602.87 | L34: 0 | N34: =I34-L34-M34 -> 785295.08
A35: Total Employee Related Cost | C35: =SUM(C25:C34) -> 2283821.2 | D35: =SUM(D25:D34) -> 0 | E35: =SUM(E25:E34) -> 2283821.2 | F35: =SUM(F25:F34) -> 0 | G35: =SUM(G25:G34) -> 2283821.2 | H35: =SUM(H25:H34) -> 300367.52 | I35: =SUM(I25:I34) -> 2584188.7 | J35: =SUM(J25:J34) -> 2392748.4 | ... N35: =SUM(N25:N34) -> 1011103.7
E36: =C36+D36 -> 0 | J36: =C36*105.4% -> 0 | K36: =J36*105.4% -> 0
A37: GRAND TOTAL EXPENDITURE (LIBRARY) | C37: =C35+C22 -> 2410927.6 | D37: =D35+D22 -> 0 | E37: =E35+E22 -> 2410927.6 | F37: =F35+F22 -> 0 | G37: =G35+G22 -> 2410927.6 | H37: =H35+H22 -> 290367.52 | I37: =I35+I22 -> 2701295.1 | J37: =J35+J22 -> 2525838.5 | ... N37: =N35+N22 -> 1118232.6
E38: =C38+D38 -> 0 | J38: =C38*105.4% -> 0 | K38: =J38*105.4% -> 0
A39: SOCIAL COHESION | E39: =C39+D39 -> 0
E40: =C40+D40 -> 0 | J40: =C40*105.4% -> 0 | K40: =J40*105.4% -> 0
A41: General Expenditure | E41: =C41+D41 -> 0
B42: Social Cohesion /Gender | C42: 0 | E42: =C42+D42 -> 0 | J42: =C42*105.4% -> 0
...

Sheet OPEX WHOLE M
A1: ACCOUNT NUMBER | B1: ACCOUNT DESCRIPTION | C1: 2018/2019 ORIGINAL BUDGET | D1: YTD EXPENDITURE | E1: ADJUSTMENTS | F1: 2018/2019 ADJUSTED BUDGET | G1: 2019/2020 OUTER YEAR ONE | H1: 2020/2021 OUTER YEAR TWO

Sheet CORPORATE SERVICES
B1: ='2020 2021 ADJU BUDGET SUMMARY'!J24 -> -58996.246 | C1: ='2020 2021 ADJU BUDGET SUMMARY'!J24 -> -58996.246
A2: 2020/2021 APPROVED ADJUSTED BUDGET (CORPORATE SERVICES)
A3: ACCOUNT NUMBER | B3: ACCOUNT DESCRIPTION | C3: 2020/2021 Draft Budget | D3: Consultation Changes | E3: 2020/2021 Final Budget | F3: Adjustments | G3: 2020/2021 First Adjusted Budget | H3: Adjustments | I3: 2020/2021 Second Adjusted Budget | J3: 2021/2022 Outer Year One | K3: 2022/2023 Outer Year Two | L3: Total Expenditure as at 31 January 2021 | M3: Pending Amount | N3: Available budget After Adjustment
A5: HUMAN RESOURCES
A6: General Expenditure
B7: Recruitment | J7: 0
A8: O0001/IE00692/F0041/X062/R0105/001/CORP | B8: Recruitme (Vetting) | C8: 65000 | E8: =C8+D8 -> 65000 | G8: =E8+F8 -> 65000 | I8: =G8+H8 -> 65000 | J8: =C8*104.6% -> 67990 | K8: =J8*104.6% -> 71117.54 | L8: 17499.74 | N8: =I8-L8-M8 -> 47500.26
A9: O0001/IE00677/F0041/X062/R0105/001/CORP | B9: Recruitment (Catering) | C9: 45000 | E9: =C9+D9 -> 45000 | G9: =E9+F9 -> 45000 | H9: -30000 | I9: =G9+H9 -> 15000 | J9: =C9*104.6% -> 47070 | K9: =J9*104.6% -> 49235.22 | N9: =I9-L9-M9 -> 15000
A10: O0001/IE00841/F0041/X062/R0105/001/CORP | B10: Recruitment (Medical Examination) | C10: 25000 | E10: =C10+D10 -> 25000 | G10: =E10+F10 -> 25000 | I10: =G10+H10 -> 25000 | J10: =C10*104.6% -> 26150 | K10: =J10*104.6% -> 27352.9 | N10: =I10-L10-M10 -> 25000
A11: O0001/IE00142/F0041/X062/R0105/001/CORP | B11: Recruitment (Relocation ) | C11: 60000 | E11: =C11+D11 -> 60000 | G11: =E11+F11 -> 60000 | H11: -19000 | I11: =G11+H11 -> 41000 | J11: =C11*104.6% -> 62760 | K11: =J11*104.6% -> 65646.96 | N11: =I11-L11-M11 -> 41000
A12: O0001/IE00063/F0041/X062/R0105/001/CORP | B12: Recruitment (S & T) | C12: 35000 | E12: =C12+D12 -> 35000 | G12: =E12+F12 -> 35000 | I12: =G12+H12 -> 35000 | J12: =C12*104.6% -> 36610 | K12: =J12*104.6% -> 38294.06 | L12: 4261.08 | N12: =I12-L12-M12 -> 30738.92
C13: 0 | E13: =C13+D13 -> 0 | G13: =E13+F13 -> 0 | I13: =G13+H13 -> 0 | J13: =C13*104.6% -> 0 | K13: =J13*104.6% -> 0 | N13: =I13-L13-M13 -> 0
A14: O0001/IE00751/F0041/X062/R0105/001/CORP | B14: General Advertisement | C14: 550000 | E14: =C14+D14 -> 550000 | G14: =E14+F14 -> 550000 | H14: 150000 | I14: =G14+H14 -> 700000 | J14: =C14*104.6% -> 575300 | K14: =J14*104.6% -> 601763.8 | L14: 457239.98 | M14: 14431.1 | N14: =I14-L14-M14 -> 228328.92
B15: Employee wellness | C15: 0 | E15: =C15+D15 -> 0 | G15: =E15+F15 -> 0 | I15: =G15+H15 -> 0 | J15: =C15*104.6% -> 0 | K15: =J15*104.6% -> 0 | N15: =I15-L15-M15 -> 0
A16: O1299-4/IE00677/F0041/X051/R0105/001/CORP | B16: Employee wellness (Catering Services) | C16: 150000 | E16: =C16+D16 -> 150000 | G16: =E16+F16 -> 150000 | H16: -109000 | I16: =G16+H16 -> 41000 | J16: =C16*104.6% -> 156900 | K16: =J16*104.6% -> 164117.4 | L16: 10800 | N16: =I16-L16-M16 -> 30200
A17: O1299-4/IE00754/F0041/X051/R0105/001/CORP | B17: Employee wellness (Promotional Items) | C17: 60000 | E17: =C17+D17 -> 60000 | G17: =E17+F17 -> 60000 | H17: -10000 | I17: =G17+H17 -> 50000 | J17: =C17*104.6% -> 62760 | K17: =J17*104.6% -> 65646.96 | L17: 0 | N17: =I17-L17-M17 -> 50000
A18: O1299-4/IE00847/F0041/X051/R0105/001/CORP | B18: Employee wellness (Training and Awareness Campaigns ) | C18: 150000 | E18: =C18+D18 -> 150000 | G18: =E18+F18 -> 150000 | H18: 45120 | I18: =G18+H18 -> 195120 | J18: =C18*104.6% -> 156900 | K18: =J18*104.6% -> 164117.4 | L18: 104880 | N18: =I18-L18-M18 -> 90240
A19: O1299-4/IE00703/F0041/X051/R0105/001/CORP | B19: Employee wellness (Transport) | C19: 50000 | E19: =C19+D19 -> 50000 | G19: =E19+F19 -> 50000 | H19: -50000 | I19: =G19+H19 -> 0 | J19: =C19*104.6% -> 52300 | K19: =J19*104.6% -> 54705.8 | N19: =I19-L19-M19 -> 0
B20: OHS | C20: 0 | E20: =C20+D20 -> 0 | G20: =E20+F20 -> 0 | I20: =G20+H20 -> 0 | J20: =C20*104.6% -> 0 | K20: =J20*104.6% -> 0 | N20: =I20-L20-M20 -> 0
A21: O0016-3/IE00060/F0041/X062/R0105/001/CORP | B21: OHS (Accommodation) | C21: 35000 | E21: =C21+D21 -> 35000 | G21: =E21+F21 -> 35000 | H21: -10000 | I21: =G21+H21 -> 25000 | J21: =C21*104.6% -> 36610 | K21: =J21*104.6% -> 38294.06 | N21: =I21-L21-M21 -> 25000
A22: O0016-3/IE00677/F0041/X062/R0105/001/CORP | B22: OHS (Catering) | C22: 25000 | E22: =C22+D22 -> 25000 | G22: =E22+F22 -> 25000 | H22: -10000 | I22: =G22+H22 -> 15000 | J22: =C22*104.6% -> 26150 | K22: =J22*104.6% -> 27352.9 | L22: 3036 | N22: =I22-L22-M22 -> 11964
A23: O0016-3/IE00754/F0041/X062/R0105/001/CORP | B23: OHS (Promotional material) | C23: 65000 | D23: 100000 | E23: =C23+D23 -> 165000 | G23: =E23+F23 -> 165000 | H23: 198000 | I23: =G23+H23 -> 363000 | J23: =C23*104.6% -> 67990 | K23: =J23*104.6% -> 71117.54 | L23: 372666 | M23: 84866 | N23: =I23-L23-M23 -> -94532
B24: Professional Fees | C24: 0 | E24: =C24+D24 -> 0 | G24: =E24+F24 -> 0 | I24: =G24+H24 -> 0 | J24: =C24*104.6% -> 0 | K24: =J24*104.6% -> 0 | N24: =I24-L24-M24 -> 0
A25: O0018-1/IE00835/F0041/X062/R0105/001/CORP | B25: Professional Fees (E-Leave management) | C25: 250000 | E25: =C25+D25 -> 250000 | G25: =E25+F25 -> 250000 | H25: -250000 | I25: =G25+H25 -> 0 | J25: =C25*104.6% -> 261500 | K25: =J25*104.6% -> 273529 | N25: =I25-L25-M25 -> 0
A26: O0018-1/IE00635/F0041/X062/R0105/001/CORP | B26: Professional Fees (Employee Wellness) | C26: 350000 | E26: =C26+D26 -> 350000 | G26: =E26+F26 -> 350000 | H26: =-100000-100000 -> -200000 | I26: =G26+H26 -> 150000 | J26: =C26*104.6% -> 366100 | K26: =J26*104.6% -> 382940.6 | N26: =I26-L26-M26 -> 150000
A27: O1300-3/IE00840/F0041/X051/R0105/001/CORP | B27: Professional Fees PMS /Job Evaluation | H27: 37000 | I27: =G27+H27 -> 37000 | N27: =I27-L27-M27 -> 37000
E28: =C28+D28 -> 0 | G28: =E28+F28 -> 0 | I28: =G28+H28 -> 0 | N28: =I28-L28-M28 -> 0
A29: O0001/IE00595/F0041/X051/R0105/001/CORP | B29: Skills Development Levies (Skills Development Levies) | C29: 102124.41 | E29: =C29+D29 -> 102124.41 | G29: =E29+F29 -> 102124.41 | I29: =G29+H29 -> 102124.41 | J29: =C29*104.6% -> 106822.14 | K29: =J29*104.6% -> 111735.96 | L29: 51472.84 | N29: =I29-L29-M29 -> 50651.574
B30: Subsistence & Travelling Allowance | C30: 0 | E30: =C30+D30 -> 0 | G30: =E30+F30 -> 0 | I30: =G30+H30 -> 0 | J30: =C30*104.6% -> 0 | K30: =J30*104.6% -> 0 | N30: =I30-L30-M30 -> 0
A31: O1300-2/IE00061/F0041/X062/R0105/001/CORP | B31: Subsistence & Travelling Allowance (Daily Allowance) | C31: 2100 | E31: =C31+D31 -> 2100 | G31: =E31+F31 -> 2100 | I31: =G31+H31 -> 2100 | J31: =C31*104.6% -> 2196.6 | K31: =J31*104.6% -> 2297.6436 | N31: =I31-L31-M31 -> 2100
A32: O1300-2/IE01581/F0041/X062/R0105/001/CORP | B32: Subsistence,Travelling & Accommodation (Flights) | C32: 30000 | E32: =C32+D32 -> 30000 | G32: =E32+F32 -> 30000 | I32: =G32+H32 -> 30000 | J32: =C32*104.6% -> 31380 | K32: =J32*104.6% -> 32823.48 | N32: =I32-L32-M32 -> 30000
A33: O1300-2/IE00060/F0041/X062/R0105/001/CORP | B33: Subsistence,Travelling & Accommodation (Travel and Subsistence:Domestic:Accommodation) | C33: 52700 | E33: =C33+D33 -> 52700 | G33: =E33+F33 -> 52700 | I33: =G33+H33 -> 52700 | J33: =C33*104.6% -> 55124.2 | K33: =J33*104.6% -> 57659.913 | L33: 29186.31 | N33: =I33-L33-M33 -> 23513.69
A34: O1300-2/IE00810/F0041/X062/R0105/001/CORP | B34: Conferences/Training (Registration Fees:Seminars, Conferences, Workshops and Events:National) | C34: 70000 | E34: =C34+D34 -> 70000 | G34: =E34+F34 -> 70000 | H34: -40000 | I34: =G34+H34 -> 30000 | J34: =C34*104.6% -> 73220 | K34: =J34*104.6% -> 76588.12 | N34: =I34-L34-M34 -> 30000
A35: O1300-2/IE00144/F0041/X062/R0105/001/CORP | B35: Subsistence and Travelling Allowance (Own Transport) | C35: 25000 | E35: =C35+D35 -> 25000 | G35: =E35+F35 -> 25000 | I35: =G35+H35 -> 25000 | J35: =C35*104.6% -> 26150 | K35: =J35*104.6% -> 27352.9 | L35: 4151 | N35: =I35-L35-M35 -> 20849
A36: O1300-2/IE01583/F0041/X062/R0105/001/CORP | B36: Subsistence,Travelling & Accommodation (Car hire- with operator (shuttle) | C36: 3000 | E36: =C36+D36 -> 3000 | G36: =E36+F36 -> 3000 | I36: =G36+H36 -> 3000 | J36: =C36*104.6% -> 3138 | K36: =J36*104.6% -> 3282.348 | N36: =I36-L36-M36 -> 3000
A37: O1300-2/IE00143/F0041/X062/R0105/001/CORP | B37: Subsistence,Travelling & Accommodation (Car hire- without operator) | C37: 12000 | E37: =C37+D37 -> 12000 | G37: =E37+F37 -> 12000 | I37: =G37+H37 -> 12000 | J37: =C37*104.6% -> 12552 | K37: =J37*104.6% -> 13129.392 | N37: =I37-L37-M37 -> 12000
A38: O1300-2/IE00063/F0041/X062/R0105/001/CORP | B38: Subsistence,Travelling & Accommodation (Incidental costs) | C38: 2108 | E38: =C38+D38 -> 2108 | G38: =E38+F38 -> 2108 | I38: =G38+H38 -> 2108 | J38: =C38*104.6% -> 2204.968 | K38: =J38*104.6% -> 2306.3965 | N38: =I38-L38-M38 -> 2108
B39: Training and Seminars | C39: 0 | E39: =C39+D39 -> 0 | G39: =E39+F39 -> 0 | I39: =G39+H39 -> 0 | J39: =C39*104.6% -> 0 | K39: =J39*104.6% -> 0 | N39: =I39-L39-M39 -> 0
A40: O1232-8/IE00703/F0041/X062/R0105/001/CORP | B40: Training and Seminars (Transport) | C40: 0 | E40: =C40+D40 -> 0 | G40: =E40+F40 -> 0 | I40: =G40+H40 -> 0 | J40: =C40*104.6% -> 0 | K40: =J40*104.6% -> 0 | N40: =I40-L40-M40 -> 0
A41: O1232-8/IE00060/F0041/X062/R0105/001/CORP | B41: Training and Seminars (Accommodation) | C41: 150000 | E41: =C41+D41 -> 150000 | G41: =E41+F41 -> 150000 | H41: -80000 | I41: =G41+H41 -> 70000 | J41: =C41*104.6% -> 156900 | K41: =J41*104.6% -> 164117.4 | N41: =I41-L41-M41 -> 70000
...

Sheet EXECUTIVE COUNCIL
B1: ='2020 2021 ADJU BUDGET SUMMARY'!J24 -> -58996.246 | C1: ='2020 2021 ADJU BUDGET SUMMARY'!J24 -> -58996.246
A2: 2020/2021 APPROVED ADJUSTED BUDGET (EXECUTIVE COUNCIL)
A3: ACCOUNT NUMBER | B3: ACCOUNT DESCRIPTION | C3: 2020/2021 Draft Budget | D3: Consultation Changes | E3: 2020/2021 Final Budget | F3: Adjustments | G3: 2020/2021 First Adjusted Budget | H3: Adjustments | I3: 2020/2021 Second Adjusted Budget | J3: 2021/2022 Outer Year One | K3: 2022/2023 Outer Year Two | L3: Total Expenditure as at 31 January 2021 | M3: Pending Amount | N3: Available budget After Adjustment
A5: EXPENDITURE
A6: Operational Cost
A7: O0001/IE00059/F0041/X044/R0105/001/EXEC | B7: Conferences/Training (Registration Fees:Seminars, Conferences, Workshops and Events:National) | C7: 80000 | E7: =C7+D7 -> 80000 | G7: =E7+F7 -> 80000 | H7: -40000 | I7: =G7+H7 -> 40000 | J7: =C7*104.6% -> 83680 | K7: =J7*104.6% -> 87529.28 | L7: 0 | N7: =I7-L7-M7 -> 40000 | Q7: =E9-P9 -> 37952.606
A8: O1486-1/IE00636/F0041/X044/R0105/001/EXEC | B8: Strategic Planning | C8: 500000 | E8: =C8+D8 -> 500000 | G8: =E8+F8 -> 500000 | H8: -500000 | I8: =G8+H8 -> 0 | J8: =C8*104.6% -> 523000 | K8: =J8*104.6% -> 547058 | L8: 0 | N8: =I8-L8-M8 -> 0
A9: O0001/IE00595/F0041/X044/R0105/001/EXEC | B9: Skills Development Levies | C9: 0 | D9: 150000 | E9: =C9+D9 -> 150000 | G9: =E9+F9 -> 150000 | H9: -37952.606 | I9: =G9+H9 -> 112047.39 | J9: =C9*104.6% -> 0 | K9: =J9*104.6% -> 0 | L9: 65360.98 | N9: =I9-L9-M9 -> 46686.414 | P9: =L9/7*12 -> 112047.39 | R9: =P9-I9 -> 0
B10: Subsistence and Travelling Allowance | C10: 0 | E10: =C10+D10 -> 0 | G10: =E10+F10 -> 0 | I10: =G10+H10 -> 0 | J10: =C10*104.6% -> 0 | K10: =J10*104.6% -> 0 | L10: 0 | N10: =I10-L10-M10 -> 0
A11: O0001/IE00144/F0041/X044/R0105/001/EXEC | B11: Subsistence and Travelling Allowance (Own Transport) | C11: 1300000 | D11: -150000 | E11: =C11+D11 -> 1150000 | G11: =E11+F11 -> 1150000 | H11: -100000 | I11: =G11+H11 -> 1050000 | J11: =C11*104.6% -> 1359800 | K11: =J11*104.6% -> 1422350.8 | L11: 617319.48 | N11: =I11-L11-M11 -> 432680.52
A12: O0001/IE00060/F0041/X044/R0105/001/EXEC | B12: Subsistence,Travelling & Accommodation (Travel and Subsistence:Domestic:Accommodation) | C12: 700000 | E12: =C12+D12 -> 700000 | G12: =E12+F12 -> 700000 | H12: -100000 | I12: =G12+H12 -> 600000 | J12: =C12*104.6% -> 732200 | K12: =J12*104.6% -> 765881.2 | L12: 482272.59 | N12: =I12-L12-M12 -> 117727.41
A13: O0001/IE01581/F0041/X044/R0105/001/EXEC | B13: Subsistence,Travelling & Accomodation (Travel and Subsistence:Domestic:Transport with Operator:Public Transport:Air Transport) | C13: 200000 | E13: =C13+D13 -> 200000 | G13: =E13+F13 -> 200000 | H13: -100000 | I13: =G13+H13 -> 100000 | J13: =C13*104.6% -> 209200 | K13: =J13*104.6% -> 218823.2 | L13: 0 | N13: =I13-L13-M13 -> 100000
A14: O0001/IE01583/F0041/X044/R0105/001/EXEC | B14: Subsistence,Travelling & Accomodation (Travel and Subsistence:Domestic:Transport with Operator:Public Transport:Road Transport) | C14: 50000 | E14: =C14+D14 -> 50000 | G14: =E14+F14 -> 50000 | I14: =G14+H14 -> 50000 | J14: =C14*104.6% -> 52300 | K14: =J14*104.6% -> 54705.8 | L14: 0 | N14: =I14-L14-M14 -> 50000
A15: O0001/IE00143/F0041/X044/R0105/001/EXEC | B15: Subsistence,Travelling & Accomodation (Travel and Subsistence:Domestic:Transport without Operator:Car Rental) | C15: 200000 | E15: =C15+D15 -> 200000 | G15: =E15+F15 -> 200000 | I15: =G15+H15 -> 200000 | J15: =C15*104.6% -> 209200 | K15: =J15*104.6% -> 218823.2 | L15: 33595.39 | N15: =I15-L15-M15 -> 166404.61
C16: 0 | E16: =C16+D16 -> 0 | G16: =E16+F16 -> 0 | I16: =G16+H16 -> 0 | J16: =C16*104.6% -> 0 | K16: =J16*104.6% -> 0 | N16: =I16-L16-M16 -> 0
A17: O0001/IE00840/F0041/X044/R0105/001/EXEC | B17: Council Training | C17: 200000 | E17: =C17+D17 -> 200000 | G17: =E17+F17 -> 200000 | H17: -200000 | I17: =G17+H17 -> 0 | J17: =C17*104.6% -> 209200 | K17: =J17*104.6% -> 218823.2 | N17: =I17-L17-M17 -> 0
A18: Totals Operational Cost | C18: =SUM(C7:C17) -> 3230000 | D18: =SUM(D7:D17) -> 0 | E18: =SUM(E7:E17) -> 3230000 | F18: =SUM(F7:F17) -> 0 | G18: =SUM(G7:G17) -> 3230000 | H18: =SUM(H7:H17) -> -1077952.6 | I18: =SUM(I7:I17) -> 2152047.4 | J18: =SUM(J7:J17) -> 3378580 | ... N18: =SUM(N7:N17) -> 953498.95
G19: =E19+F19 -> 0
A20: Remuneration of Councillors | G20: =E20+F20 -> 0
A21: O0001/IE00073/F0041/X044/R0105/001/EXEC | B21: Remuneration for councillors (Speaker:Social Contributions:Medial Aid Benefits) | C21: 51741.092 | E21: =C21+D21 -> 51741.092 | G21: =E21+F21 -> 51741.092 | I21: =G21+H21 -> 51741.092 | J21: =C21*104.6% -> 54121.183 | K21: =J21*104.6% -> 56610.757 | L21: 32404.47 | N21: =I21-L21-M21 -> 19336.622
A22: O0001/IE00816/F0041/X044/R0105/001/EXEC | B22: Remuneration for councillors (Speaker:Allowances and Service Related Benefits:Basic Salary) | C22: 679321.13 | E22: =C22+D22 -> 679321.13 | G22: =E22+F22 -> 679321.13 | I22: =G22+H22 -> 679321.13 | J22: =C22*104.6% -> 710569.9 | K22: =J22*104.6% -> 743256.12 | L22: 370007.47 | N22: =I22-L22-M22 -> 309313.66
A23: O0001/IE00817/F0041/X044/R0105/001/EXEC | B23: Remuneration for councillors (Speaker:Allowances and Service Related Benefits:Cell phone Allowance) | C23: 54781.86 | E23: =C23+D23 -> 54781.86 | G23: =E23+F23 -> 54781.86 | I23: =G23+H23 -> 54781.86 | J23: =C23*104.6% -> 57301.826 | K23: =J23*104.6% -> 59937.71 | L23: 23800 | N23: =I23-L23-M23 -> 30981.86
A24: O0001/IE07194/F0041/X044/R0105/001/EXEC | B24: Remuneration for councillors (Deputy Executive Mayor:Allowances and Service Related Benefits:Basic Salary) | C24: 637762.57 | E24: =C24+D24 -> 637762.57 | G24: =E24+F24 -> 637762.57 | I24: =G24+H24 -> 637762.57 | J24: =C24*104.6% -> 667099.64 | K24: =J24*104.6% -> 697786.23 | L24: 339750.69 | N24: =I24-L24-M24 -> 298011.88
A25: O0001/IE07195/F0041/X044/R0105/001/EXEC | B25: Remuneration for councillors (Deputy Executive Mayor:Allowances and Service Related Benefits:Cell phone Allowance) | C25: 46275.36 | E25: =C25+D25 -> 46275.36 | G25: =E25+F25 -> 46275.36 | I25: =G25+H25 -> 46275.36 | J25: =C25*104.6% -> 48404.027 | K25: =J25*104.6% -> 50630.612 | L25: 23800 | N25: =I25-L25-M25 -> 22475.36
A26: O0001/IE07204/F0041/X044/R0105/001/EXEC | B26: Remuneration for councillors (Deputy Executive Mayor:Social Contributions:Medial Aid Benefits) | C26: 36445.929 | E26: =C26+D26 -> 36445.929 | G26: =E26+F26 -> 36445.929 | I26: =G26+H26 -> 36445.929 | J26: =C26*104.6% -> 38122.442 | K26: =J26*104.6% -> 39876.074 | L26: 11021.4 | N26: =I26-L26-M26 -> 25424.529
A27: O0001/IE07205/F0041/X044/R0105/001/EXEC | B27: Remuneration for councillors (Deputy Executive Mayor:Social Contributions:Pension Fund Contributions) | C27: 93340.94 | E27: =C27+D27 -> 93340.94 | G27: =E27+F27 -> 93340.94 | I27: =G27+H27 -> 93340.94 | J27: =C27*104.6% -> 97634.623 | K27: =J27*104.6% -> 102125.82 | L27: 50962.59 | N27: =I27-L27-M27 -> 42378.35
A28: O0001/IE07206/F0041/X044/R0105/001/EXEC | B28: Remuneration for councillors (Executive Committee:Allowances and Service Related Benefits:Basic Salary) | C28: 2835500 | E28: =C28+D28 -> 2835500 | G28: =E28+F28 -> 2835500 | I28: =G28+H28 -> 2835500 | J28: =C28*104.6% -> 2965933 | K28: =J28*104.6% -> 3102365.9 | L28: 1388083.2 | N28: =I28-L28-M28 -> 1447416.8
A29: O0001/IE07207/F0041/X044/R0105/001/EXEC | B29: Remuneration for councillors (Executive Committee:Allowances and Service Related Benefits:Cell phone Allowance) | C29: 185101.44 | E29: =C29+D29 -> 185101.44 | G29: =E29+F29 -> 185101.44 | I29: =G29+H29 -> 185101.44 | J29: =C29*104.6% -> 193616.11 | K29: =J29*104.6% -> 202522.45 | L29: 119000 | N29: =I29-L29-M29 -> 66101.44
A30: O0001/IE07216/F0041/X044/R0105/001/EXEC | B30: Municipal Running Cost/Medial Aid Benefits/Equitable Share/Mayor and Council/Administrative or Head O/Default/Executive & Council | C30: 0 | E30: =C30+D30 -> 0 | G30: =E30+F30 -> 0 | I30: =G30+H30 -> 0 | J30: =C30*104.6% -> 0 | K30: =J30*104.6% -> 0 | L30: 14646 | N30: =I30-L30-M30 -> -14646
A31: O0001/IE07217/F0041/X044/R0105/001/EXEC | B31: Remuneration for councillors (Executive Committee:Social Contributions:Pension Fund Contributions) | C31: 340260 | E31: =C31+D31 -> 340260 | G31: =E31+F31 -> 340260 | I31: =G31+H31 -> 340260 | J31: =C31*104.6% -> 355911.96 | K31: =J31*104.6% -> 372283.91 | L31: 147375.62 | N31: =I31-L31-M31 -> 192884.38
A32: O0001/IE07218/F0041/X044/R0105/001/EXEC | B32: Remuneration for councillors (Executive Mayor:Allowances and Service Related Benefits:Basic Salary) | C32: 906204.7 | E32: =C32+D32 -> 906204.7 | G32: =E32+F32 -> 906204.7 | I32: =G32+H32 -> 906204.7 | J32: =C32*104.6% -> 947890.12 | K32: =J32*104.6% -> 991493.07 | L32: 479557.35 | N32: =I32-L32-M32 -> 426647.35
... A40: O0001/IE07241/F0041/X044/R0105/001/EXEC | B40: Employee related costs: council (Total for All Other Councillors:Social Contributions:Pension Fund Contributions) | C40: 668700.07 | E40: =C40+D40 -> 668700.07 | G40: =E40+F40 -> 668700.07 | I40: =G40+H40 -> 668700.07 | J40: =C40*104.6% -> 699460.27 | K40: =J40*104.6% -> 731635.45 | L40: 186046.09 | N40: =I40-L40-M40 -> 482653.98
A41: Total Remuneration of Councillors | C41: =SUM(C21:C40) -> 16246710 | D41: =SUM(D21:D40) -> 0 | E41: =SUM(E21:E40) -> 16246710 | F41: =SUM(F21:F40) -> 0 | G41: =SUM(G21:G40) -> 16246710 | H41: =SUM(H21:H40) -> 0 | I41: =SUM(I21:I40) -> 16246710 | J41: =SUM(J21:J40) -> 16994058 | ... N41: =SUM(N21:N40) -> 7805683.2
G42: =E42+F42 -> 0
A43: GRAND TOTAL EXPENDITURE (EXECUTIVE COUNCIL) | C43: =C41+C18 -> 19476710 | D43: =D41+D18 -> 0 | E43: =E41+E18 -> 19476710 | F43: =F41+F18 -> 0 | G43: =G41+G18 -> 19476710 | H43: =H41+H18 -> -1077952.6 | I43: =I41+I18 -> 18398757 | J43: =J41+J18 -> 20372638 | ... N43: =N41+N18 -> 8759182.1
G44: =E44+F44 -> 0
A45: (SUPLUS)/DEFICIT | C45: =C43 -> 19476710 | D45: =D43 -> 0 | E45: =E43 -> 19476710 | F45: =F43 -> 0 | G45: =G43 -> 19476710 | H45: =H43 -> -1077952.6 | I45: =I43 -> 18398757 | J45: =J43 -> 20372638 | ... N45: =N43 -> 8759182.1

Sheet Sheet1
A2: Upgrade of electrical Infrastructure project in Applesbosch Ward 6 | B2: 14000000
A3: Indigent | B3: 3200000
A4: Electrification Projects | B4: 8100000
A5: Thumamina salaries EPWP (Salaries and Allowances) | B5: 600000
A6: Professional Fees (New Municipal Offices: Design,Eletrification Licence study ,Comprehensive infrastructure Plan,Technical Assessment for electrification usage on Municipal Facilities/Assets and Ward 11 Electrification investigation on malfunctioning and | B6: 5700000
A7: Proffesional Fees (LED Strategy) (Tourism Strategy) (Pilgrimage Packaging) | B7: 700000
A8: Proffessional Fees Community Services | B8: 400000
A9: Proffessional Fees Corporate Services | B9: =3200000-720000 -> 2480000
B10: =SUM(B2:B9) -> 35180000
B11: 26000000
B12: =B10-B11 -> 9180000

Sheet EDP
B1: ='2020 2021 ADJU BUDGET SUMMARY'!J24 -> -58996.246 | C1: ='2020 2021 ADJU BUDGET SUMMARY'!J24 -> -58996.246
A2: 2020/2021 APPROVED ADJUSTED BUDGET (ECONOMIC DEVELOPMENT AND PLANNING)
A3: ACCOUNT NUMBER | B3: ACCOUNT DESCRIPTION | C3: 2020/2021 Draft Budget | D3: Consultation Changes | E3: 2020/2021 Final Budget | F3: Adjustments | G3: 2020/2021 First Adjusted Budget | H3: Adjustments | I3: 2020/2021 Second Adjusted Budget | J3: 2021/2022 Outer Year One | K3: 2022/2023 Outer Year Two | L3: Total Expenditure as at 31 January 2021 | M3: Pending Amount | N3: Available budget After Adjustment
A5: LOCAL ECONOMIC DEVELOPMENT
A6: General Expenditure
B7: Ndwedwe Music Festival
A8: O1354-1/IE00636/F0041/X098/R0106/001/EDP | B8: Ndwedwe Music Festival (Grant) | C8: 1400000 | E8: =C8+D8 -> 1400000 | G8: =E8+F8 -> 1400000 | H8: -1400000 | I8: =G8+H8 -> 0 | J8: =C8*104.6% -> 1464400 | K8: =J8*104.6% -> 1531762.4 | N8: =I8-L8-M8 -> 0
A9: O1291-5/IE00634/F0041/X098/R0106/001/EDP | B9: Ndwedwe Music Festival (Electrical Lights) | C9: 250000 | E9: =C9+D9 -> 250000 | G9: =E9+F9 -> 250000 | H9: -250000 | I9: =G9+H9 -> 0 | J9: =C9*104.6% -> 261500 | K9: =J9*104.6% -> 273529 | N9: =I9-L9-M9 -> 0
A10: O1291-5/IE00663/F0041/X098/R0106/001/EDP | B10: Ndwedwe Music Festival (Fencing) | C10: 200000 | E10: =C10+D10 -> 200000 | G10: =E10+F10 -> 200000 | H10: -200000 | I10: =G10+H10 -> 0 | J10: =C10*104.6% -> 209200 | K10: =J10*104.6% -> 218823.2 | N10: =I10-L10-M10 -> 0
C11: 0 | E11: =C11+D11 -> 0 | G11: =E11+F11 -> 0 | I11: =G11+H11 -> 0 | J11: =C11*104.6% -> 0 | K11: =J11*104.6% -> 0 | N11: =I11-L11-M11 -> 0
B12: Maskandi Festival | C12: 0 | E12: =C12+D12 -> 0 | G12: =E12+F12 -> 0 | I12: =G12+H12 -> 0 | J12: =C12*104.6% -> 0 | K12: =J12*104.6% -> 0 | N12: =I12-L12-M12 -> 0
A13: O1306-1/IE00754/F0041/X098/R0106/001/EDP | B13: Maskandi Festival (Promotional Gifts) | C13: 300000 | E13: =C13+D13 -> 300000 | G13: =E13+F13 -> 300000 | H13: -105000 | I13: =G13+H13 -> 195000 | J13: =C13*104.6% -> 313800 | K13: =J13*104.6% -> 328234.8 | L13: 195000 | N13: =I13-L13-M13 -> 0
A14: O1306-1/IE00677/F0041/X098/R0106/001/EDP | B14: Maskandi Festival (Catering) | C14: 30000 | E14: =C14+D14 -> 30000 | G14: =E14+F14 -> 30000 | H14: -490 | I14: =G14+H14 -> 29510 | J14: =C14*104.6% -> 31380 | K14: =J14*104.6% -> 32823.48 | L14: 29510 | N14: =I14-L14-M14 -> 0
A15: O1306-1/IE00667/F0041/X098/R0106/001/EDP | B15: Maskandi Festival (Stage and Sound System) | C15: 80000 | E15: =C15+D15 -> 80000 | G15: =E15+F15 -> 80000 | H15: 90145 | I15: =G15+H15 -> 170145 | J15: =C15*104.6% -> 83680 | K15: =J15*104.6% -> 87529.28 | L15: 170145 | N15: =I15-L15-M15 -> 0
C16: 0 | E16: =C16+D16 -> 0 | G16: =E16+F16 -> 0 | I16: =G16+H16 -> 0 | J16: =C16*104.6% -> 0 | K16: =J16*104.6% -> 0 | N16: =I16-L16-M16 -> 0
B17: Cluster Commercial Gardens | C17: 0 | E17: =C17+D17 -> 0 | G17: =E17+F17 -> 0 | I17: =G17+H17 -> 0 | J17: =C17*104.6% -> 0 | K17: =J17*104.6% -> 0 | N17: =I17-L17-M17 -> 0
A18: O1217-2/IE00534/F0041/X098/R0106/001/EDP | B18: Cluster Commercial Gardens (agricultural tool) | C18: 300000 | E18: =C18+D18 -> 300000 | G18: =E18+F18 -> 300000 | H18: -72500 | I18: =G18+H18 -> 227500 | J18: =C18*104.6% -> 313800 | K18: =J18*104.6% -> 328234.8 | L18: 227500 | N18: =I18-L18-M18 -> 0
A19: O1217-5/IE00663/F0041/X098/R0106/001/EDP | B19: Cluster Commercial Gardens (Gardens Fencing) | C19: 500000 | E19: =C19+D19 -> 500000 | G19: =E19+F19 -> 500000 | H19: =300000+7025 -> 307025 | I19: =G19+H19 -> 807025 | J19: =C19*104.6% -> 523000 | K19: =J19*104.6% -> 547058 | L19: 415438 | N19: =I19-L19-M19 -> 391587
A20: O1217-5/IE00629/F0041/X098/R0106/001/EDP | B20: Cluster Commercial Gardens (Water Supply system) | C20: 400000 | E20: =C20+D20 -> 400000 | G20: =E20+F20 -> 400000 | I20: =G20+H20 -> 400000 | J20: =C20*104.6% -> 418400 | K20: =J20*104.6% -> 437646.4 | L20: 194650 | N20: =I20-L20-M20 -> 205350
A21: O1217-1/IE00642/F0041/X098/R0106/001/EDP | B21: Cluster Commercial Gardens (Support Seeds) | C21: 400000 | E21: =C21+D21 -> 400000 | G21: =E21+F21 -> 400000 | H21: 41290.88 | I21: =G21+H21 -> 441290.88 | J21: =C21*104.6% -> 418400 | K21: =J21*104.6% -> 437646.4 | L21: 441290.88 | N21: =I21-L21-M21 -> 0
E22: =C22+D22 -> 0 | G22: =E22+F22 -> 0 | I22: =G22+H22 -> 0 | N22: =I22-L22-M22 -> 0
B23: Cooperatives Development | C23: 0 | E23: =C23+D23 -> 0 | G23: =E23+F23 -> 0 | I23: =G23+H23 -> 0 | J23: =C23*104.6% -> 0 | K23: =J23*104.6% -> 0 | N23: =I23-L23-M23 -> 0
A24: O1249-4/IE00677/F0041/X098/R0106/001/EDP | B24: Cooperatives Development (Catering) | C24: 50000 | E24: =C24+D24 -> 50000 | G24: =E24+F24 -> 50000 | H24: -7025 | I24: =G24+H24 -> 42975 | J24: =C24*104.6% -> 52300 | K24: =J24*104.6% -> 54705.8 | L24: 2975 | N24: =I24-L24-M24 -> 40000
A25: O1249-3/IE00672/F0041/X098/R0106/001/EDP | B25: Cooperatives Development (Identification and Database),(Gaps Identification) | C25: 300000 | E25: =C25+D25 -> 300000 | G25: =E25+F25 -> 300000 | H25: 90000 | I25: =G25+H25 -> 390000 | J25: =C25*104.6% -> 313800 | K25: =J25*104.6% -> 328234.8 | L25: 390000 | N25: =I25-L25-M25 -> 0
A26: O1249-5/IE00703/F0041/X098/R0106/001/EDP | B26: Cooperatives Development (Transport) | C26: 100000 | E26: =C26+D26 -> 100000 | G26: =E26+F26 -> 100000 | H26: -50000 | I26: =G26+H26 -> 50000 | J26: =C26*104.6% -> 104600 | K26: =J26*104.6% -> 109411.6 | N26: =I26-L26-M26 -> 50000
A27: O1249-3/IE00847/F0041/X098/R0106/001/EDP | B27: Cooperatives Development (Support) | C27: 300000 | E27: =C27+D27 -> 300000 | G27: =E27+F27 -> 300000 | H27: =100000-100000-100000 -> -100000 | I27: =G27+H27 -> 200000 | J27: =C27*104.6% -> 313800 | K27: =J27*104.6% -> 328234.8 | N27: =I27-L27-M27 -> 200000
C28: 0 | E28: =C28+D28 -> 0 | G28: =E28+F28 -> 0 | I28: =G28+H28 -> 0 | J28: =C28*104.6% -> 0 | K28: =J28*104.6% -> 0 | N28: =I28-L28-M28 -> 0
A29: O0001/IE00756/F0041/X098/R0105/001/EDP | B29: Branding (bunners and bilboards for mini-factories | C29: 80000 | E29: =C29+D29 -> 80000 | G29: =E29+F29 -> 80000 | I29: =G29+H29 -> 80000 | J29: =C29*104.6% -> 83680 | K29: =J29*104.6% -> 87529.28 | L29: 13600 | M29: 12000 | N29: =I29-L29-M29 -> 54400
E30: =C30+D30 -> 0 | G30: =E30+F30 -> 0 | I30: =G30+H30 -> 0 | N30: =I30-L30-M30 -> 0
B31: LED | C31: 0 | E31: =C31+D31 -> 0 | G31: =E31+F31 -> 0 | I31: =G31+H31 -> 0 | J31: =C31*104.6% -> 0 | K31: =J31*104.6% -> 0 | N31: =I31-L31-M31 -> 0
A32: O1217-3/IE00667/F0041/X098/R0106/001/EDP | B32: LED (Sound system) | C32: 50000 | E32: =C32+D32 -> 50000 | G32: =E32+F32 -> 50000 | I32: =G32+H32 -> 50000 | J32: =C32*104.6% -> 52300 | K32: =J32*104.6% -> 54705.8 | L32: 24850 | N32: =I32-L32-M32 -> 25150
A33: O1217-3/IE00703/F0041/X098/R0106/001/EDP | B33: LED (Transport) | C33: 60000 | E33: =C33+D33 -> 60000 | G33: =E33+F33 -> 60000 | I33: =G33+H33 -> 60000 | J33: =C33*104.6% -> 62760 | K33: =J33*104.6% -> 65646.96 | L33: 59600 | N33: =I33-L33-M33 -> 400
A34: O1217-3/IE00677/F0041/X098/R0106/001/EDP | B34: LED (Catering Services) | C34: 60000 | E34: =C34+D34 -> 60000 | G34: =E34+F34 -> 60000 | I34: =G34+H34 -> 60000 | J34: =C34*104.6% -> 62760 | K34: =J34*104.6% -> 65646.96 | L34: 32900.5 | N34: =I34-L34-M34 -> 27099.5
E35: =C35+D35 -> 0 | G35: =E35+F35 -> 0 | I35: =G35+H35 -> 0 | N35: =I35-L35-M35 -> 0
A36: O1244-1/IE00604/F0041/X098/R0105/001/EDP | B36: EDP Uniform and Protective Clothing | C36: 70000 | E36: =C36+D36 -> 70000 | G36: =E36+F36 -> 70000 | I36: =G36+H36 -> 70000 | J36: =C36*104.6% -> 73220 | K36: =J36*104.6% -> 76588.12 | L36: 30875 | N36: =I36-L36-M36 -> 39125
A37: O0001/IE00016/F0041/X098/R0106/001/EDP | B37: Membership Fee | E37: =C37+D37 -> 0 | G37: =E37+F37 -> 0 | H37: 5950 | I37: =G37+H37 -> 5950 | L37: 950 | N37: =I37-L37-M37 -> 5000
A38: O0001/IE00595/F0041/X098/R0105/001/EDP | B38: Skills Development Levies (Skills Development Levies) | C38: 45519.233 | E38: =C38+D38 -> 45519.233 | G38: =E38+F38 -> 45519.233 | I38: =G38+H38 -> 45519.233 | J38: =C38*104.6% -> 47613.118 | K38: =J38*104.6% -> 49803.321 | L38: 22908.38 | N38: =I38-L38-M38 -> 22610.853
A39: O0001/IE00060/F0041/X098/R0105/001/EDP | B39: Subsistence,Travelling & Accommodation (Travel and Subsistence:Domestic:Accommodation) | E39: 0 | H39: 11292.63 | I39: =G39+H39 -> 11292.63 | L39: 3292.63 | N39: =I39-L39-M39 -> 8000
A40: O0001/IE00144/F0041/X098/R0105/001/EDP | B40: Subsistence and Travelling Allowance (Own Transport) | H40: 15000 | I40: =G40+H40 -> 15000 | L40: 11130.22 | N40: =I40-L40-M40 -> 3869.78
A41: O0001/IE01581/F0041/X098/R0105/001/EDP | B41: Subsistence,Travelling & Accommodation (Flights) | H41: 16000 | I41: =G41+H41 -> 16000 | N41: =I41-L41-M41 -> 16000
...

Sheet TECHNICAL SERVICES
B1: ='2020 2021 ADJU BUDGET SUMMARY'!J24 -> -58996.246 | C1: ='2020 2021 ADJU BUDGET SUMMARY'!J24 -> -58996.246
A2: 2020/2021 APPROVED ADJUSTED BUDGET (TECHNICAL SERVICES)
A3: ACCOUNT NUMBER | B3: ACCOUNT DESCRIPTION | C3: 2020/2021 Draft Budget | D3: Consultation Changes | E3: 2020/2021 Final Budget | F3: Adjustments | G3: 2020/2021 First Adjusted Budget | H3: Adjustments | I3: 2020/2021 Second Adjusted Budget | J3: 2021/2022 Outer Year One | K3: 2022/2023 Outer Year Two | L3: Total Expenditure as at 31 January 2021 | M3: Pending Amount | N3: Available budget After Adjustment
A5: PUBLIC WORKS
A6: REVENUE
A7: Transfers and Subsidies
A8: D0001/IR02310/F1169/X116/R0106/001/TECH | B8: National Government (Expanded Public Works Programme Integrated Grant) | C8: -1760000 | E8: =C8+D8 -> -1760000 | G8: =E8+F8 -> -1760000 | I8: =G8+H8 -> -1760000 | L8: -1429070.8 | N8: =I8-L8-M8 -> -330929.2
A9: Total Transfers and Subsidies | C9: =SUM(C8:C8) -> -1760000 | D9: =SUM(D8:D8) -> 0 | E9: =SUM(E8:E8) -> -1760000 | F9: =SUM(F8:F8) -> 0 | G9: =SUM(G8:G8) -> -1760000 | H9: =SUM(H8:H8) -> 0 | I9: =SUM(I8:I8) -> -1760000 | J9: =SUM(J8:J8) -> 0 | ... L9: =SUM(L8:L8) -> -1429070.8 | N9: =SUM(N8:N8) -> -330929.2
A11: TOTAL REVENUE | C11: =C9 -> -1760000 | D11: =D9 -> 0 | E11: =E9 -> -1760000 | F11: =F9 -> 0 | G11: =G9 -> -1760000 | H11: =H9 -> 0 | I11: =I9 -> -1760000 | J11: =J9 -> 0 | ... L11: =L9 -> -1429070.8 | N11: =N9 -> -330929.2
G12: =E12+F12 -> 0
A13: General Expenditure | C13: 0 | G13: =E13+F13 -> 0
B14: EPWP | G14: =E14+F14 -> 0
A15: O0001/IE00607/F0041/X116/R0105/001/TECH | B15: EPWP Fuel | C15: 50000 | E15: =C15+D15 -> 50000 | G15: =E15+F15 -> 50000 | H15: -20000 | I15: =G15+H15 -> 30000 | J15: =C15*104.6% -> 52300 | K15: =J15*104.6% -> 54705.8 | L15: -0.09 | M15: 3366 | N15: =I15-L15-M15 -> 26634.09
A16: O0001/IE00550/F0041/X116/R0106/001/TECH | B16: Assets less than the Capitalization Threshold (EPWP) | C16: 0 | E16: =C16+D16 -> 0 | G16: =E16+F16 -> 0 | I16: =G16+H16 -> 0 | J16: =C16*104.6% -> 0 | K16: =J16*104.6% -> 0 | N16: =I16-L16-M16 -> 0
A17: O1279-1/IE00604/F0041/X116/R0106/001/TECH | B17: EPWP Uniform and Protective Clothing | C17: 150000 | E17: =C17+D17 -> 150000 | G17: =E17+F17 -> 150000 | H17: 39700 | I17: =G17+H17 -> 189700 | J17: =C17*104.6% -> 156900 | K17: =J17*104.6% -> 164117.4 | L17: 189700 | N17: =I17-L17-M17 -> 0
B18: Repairs and Maintenance | C18: 0 | E18: =C18+D18 -> 0 | G18: =E18+F18 -> 0 | I18: =G18+H18 -> 0 | J18: =C18*104.6% -> 0 | K18: =J18*104.6% -> 0 | N18: =I18-L18-M18 -> 0
A19: O2817-1/IE00651/F0041/X116/R3711/001/TECH | B19: Repairs and Maintenance (Sport Field in Ward 10) | C19: 200000 | E19: =C19+D19 -> 200000 | G19: =E19+F19 -> 200000 | H19: -200000 | I19: =G19+H19 -> 0 | J19: =C19*104.6% -> 209200 | K19: =J19*104.6% -> 218823.2 | N19: =I19-L19-M19 -> 0
A20: O0968-1/IE00649/F0041/X116/R0106/001/TECH | B20: Repairs and Maintenance (unplanned Maitenance) | C20: 900000 | D20: -300000 | E20: =C20+D20 -> 600000 | G20: =E20+F20 -> 600000 | H20: =400000+100000+43685.86 -> 543685.86 | I20: =G20+H20 -> 1143685.9 | J20: =C20*104.6% -> 941400 | K20: =J20*104.6% -> 984704.4 | L20: 525843.61 | M20: 270077.5 | N20: =I20-L20-M20 -> 347764.75
A21: O3523-2/IE00649/F0041/X116/R0105/001/TECH | B21: Repairs and Maintenance (Bhamshela Renovation) | C21: 400000 | E21: =C21+D21 -> 400000 | G21: =E21+F21 -> 400000 | H21: -180000 | I21: =G21+H21 -> 220000 | J21: =C21*104.6% -> 418400 | K21: =J21*104.6% -> 437646.4 | L21: 0 | N21: =I21-L21-M21 -> 220000
A22: O3259-1/IE00649/F0041/X116/R3702/001/TECH | B22: Repairs and Maintenance (Johnny Makhatini Ward 15) | C22: 750000 | D22: 320000 | E22: =C22+D22 -> 1070000 | G22: =E22+F22 -> 1070000 | H22: -604815 | I22: =G22+H22 -> 465185 | J22: =C22*104.6% -> 784500 | K22: =J22*104.6% -> 820587 | L22: 285185 | N22: =I22-L22-M22 -> 180000
A23: O3259-2/IE00649/F0041/X116/R3696/001/TECH | B23: Repairs and Maintenance (Hall 1 (TBC) | C23: 300000 | D23: -100000 | E23: =C23+D23 -> 200000 | G23: =E23+F23 -> 200000 | H23: -200000 | I23: =G23+H23 -> 0 | J23: =C23*104.6% -> 313800 | K23: =J23*104.6% -> 328234.8 | L23: 0 | N23: =I23-L23-M23 -> 0
A24: O3259-3/IE00649/F0041/X116/R3707/001/TECH | B24: Repairs and Maintenance (Hall 2 (TBC) | C24: 300000 | D24: -100000 | E24: =C24+D24 -> 200000 | G24: =E24+F24 -> 200000 | H24: -200000 | I24: =G24+H24 -> 0 | J24: =C24*104.6% -> 313800 | K24: =J24*104.6% -> 328234.8 | L24: 0 | N24: =I24-L24-M24 -> 0
A25: O3259-4/IE00649/F0041/X116/R3708/001/TECH | B25: Repairs and Maintenance (Hall 3 (TBC) | C25: 300000 | D25: -100000 | E25: =C25+D25 -> 200000 | G25: =E25+F25 -> 200000 | H25: -200000 | I25: =G25+H25 -> 0 | J25: =C25*104.6% -> 313800 | K25: =J25*104.6% -> 328234.8 | L25: 0 | N25: =I25-L25-M25 -> 0
A26: O3259-5/IE00649/F0041/X116/R3709/001/TECH | B26: Repairs and Maintenance (Hall 4 (TBC) | C26: 300000 | D26: -90000 | E26: =C26+D26 -> 210000 | G26: =E26+F26 -> 210000 | H26: -210000 | I26: =G26+H26 -> 0 | J26: =C26*104.6% -> 313800 | K26: =J26*104.6% -> 328234.8 | L26: 0 | N26: =I26-L26-M26 -> 0
A27: O3259-6/IE00649/F0041/X116/R3709/001/TECH | B27: Repairs and Maintenance (Wewe Hall) | D27: 41000 | E27: =C27+D27 -> 41000 | G27: =E27+F27 -> 41000 | H27: -41000 | I27: =G27+H27 -> 0 | L27: 0 | N27: =I27-L27-M27 -> 0
A28: O1565-1/IE00651/F0041/X116/R0106/001/TECH | B28: Repairs and Maintenance (Vehicles) | C28: 850000 | E28: =C28+D28 -> 850000 | G28: =E28+F28 -> 850000 | I28: =G28+H28 -> 850000 | J28: =C28*104.6% -> 889100 | K28: =J28*104.6% -> 929998.6 | L28: 475461.25 | M28: 120610.76 | N28: =I28-L28-M28 -> 253927.99
A29: O0370-1/IE00651/F0041/X116/R0106/001/TECH | B29: Repairs and Maintenance (Road Maintenance) | C29: 1400000 | E29: =C29+D29 -> 1400000 | G29: =E29+F29 -> 1400000 | H29: =2508325.62-239861.65-519150.14 -> 1749313.8 | I29: =G29+H29 -> 3149313.8 | J29: =C29*104.6% -> 1464400 | K29: =J29*104.6% -> 1531762.4 | L29: 3149313.8 | N29: =I29-L29-M29 -> 0
A30: O1116-1/IE00651/F0041/X116/R0106/001/TECH | B30: Repairs and Maintenance (Local Sport facilities Grass Cutting ) | C30: 700000 | E30: =C30+D30 -> 700000 | G30: =E30+F30 -> 700000 | H30: -154498.83 | I30: =G30+H30 -> 545501.17 | J30: =C30*104.6% -> 732200 | K30: =J30*104.6% -> 765881.2 | L30: 236841.93 | M30: 38532.21 | N30: =I30-L30-M30 -> 270127.03
A31: O1264-6/IE00651/F0041/X116/R0106/001/TECH | B31: Roads maintenance Covid 19 Respond | F31: 14000000 | G31: =E31+F31 -> 14000000 | I31: =G31+H31 -> 14000000 | L31: 1849802.4 | N31: =I31-L31-M31 -> 12150198
A33: O0001/IE00584/F0041/X116/R0105/001/TECH | B33: Membership Fees (Membership Fees) | C33: 25000 | E33: =C33+D33 -> 25000 | G33: =E33+F33 -> 25000 | I33: =G33+H33 -> 25000 | J33: =C33*104.6% -> 26150 | K33: =J33*104.6% -> 27352.9 | L33: 2150 | N33: =I33-L33-M33 -> 22850
C34: 0 | E34: =C34+D34 -> 0 | G34: =E34+F34 -> 0 | I34: =G34+H34 -> 0 | J34: =C34*104.6% -> 0 | K34: =J34*104.6% -> 0 | N34: =I34-L34-M34 -> 0
B35: Subsistence and Travelling Allowance | C35: 0 | E35: =C35+D35 -> 0 | G35: =E35+F35 -> 0 | I35: =G35+H35 -> 0 | J35: =C35*104.6% -> 0 | K35: =J35*104.6% -> 0 | N35: =I35-L35-M35 -> 0
A36: O0001/IE00144/F0041/X116/R0105/001/TECH | B36: Subsistence and Travelling Allowance (Own Transport) | C36: 15000 | E36: =C36+D36 -> 15000 | G36: =E36+F36 -> 15000 | I36: =G36+H36 -> 15000 | J36: =C36*104.6% -> 15690 | K36: =J36*104.6% -> 16411.74 | L36: 5266.48 | N36: =I36-L36-M36 -> 9733.52
